BEGIN:VCALENDAR
VERSION:2.0
PRODID:-//3qinnovation.org//NONSGML kigkonsult.se iCalcreator 2.30.10//
CALSCALE:GREGORIAN
METHOD:PUBLISH
UID:71e54819-fc79-42d6-b4de-b363a66c9c93
X-WR-CALDESC:Join the Center for Architecture for a workshop on free-hand t
 echniques for drawing architecture. Students will be introduced to some ba
 sic techniques for sketching architecture including methods of shading and
  rendering different materials. The class will start at the Center for Arc
 hitecture with some basic lessons and sketching exercises\, then will head
  outside (weather permitting) to practice observational on-site sketching 
 at a site nearby. (All materials will be provided.) \n
X-WR-RELCALID:003475dc267aa9c57bae10aa76eb53f7
X-WR-TIMEZONE:America/New_York
BEGIN:VTIMEZONE
TZID:America/New_York
BEGIN:STANDARD
TZNAME:EST
DTSTART:20241103T020000
TZOFFSETFROM:-0400
TZOFFSETTO:-0500
RDATE:20251102T020000
RDATE:20261101T020000
END:STANDARD
BEGIN:DAYLIGHT
TZNAME:EDT
DTSTART:20250309T020000
TZOFFSETFROM:-0500
TZOFFSETTO:-0400
RDATE:20260308T020000
END:DAYLIGHT
END:VTIMEZONE
BEGIN:VEVENT
UID:7fb03b15-a97c-4c1b-8b74-bce7136f6f73
DTSTAMP:20260419T215552Z
DESCRIPTION:Join the Center for Architecture for a workshop on free-hand te
 chniques for drawing architecture. Students will be introduced to some bas
 ic techniques for sketching architecture including methods of shading and 
 rendering different materials. The class will start at the Center for Arch
 itecture with some basic lessons and sketching exercises\, then will head 
 outside (weather permitting) to practice observational on-site sketching a
 t a site nearby. (All materials will be provided.) \n
DTSTART;TZID=America/New_York:20250503T100000
DTEND;TZID=America/New_York:20250503T160000
LOCATION:
SUMMARY:Teen Workshop: Architectural Sketching (Grades 9-12)
END:VEVENT
END:VCALENDAR
