BEGIN:VCALENDAR
VERSION:2.0
PRODID:-//3qinnovation.org//NONSGML kigkonsult.se iCalcreator 2.30.10//
CALSCALE:GREGORIAN
METHOD:PUBLISH
UID:e7508e13-44f3-4d03-95cb-320724ee599e
X-WR-CALDESC:Join AIANY Emerging New York Architects for its spring 2025 Be
 yond the Boards series\, starting with a tour of the newly completed award
 -winning NYPD 40th Precinct\, designed by BIG—Bjarke Ingels Group. The pro
 ject is an excellent showcase of the New York City Department of Design an
 d Construction (DDC)’s Design and Construction Excellence program for publ
 ic works. The tour will be led by Aran Coakley\, Associate and Project Arc
 hitect at BIG\, with representatives from DDC. It's a great chance to expe
 rience firsthand how the city works in partnership with creative and exper
 ienced design professionals to deliver high-quality public buildings.
X-WR-RELCALID:f078011452ef5faba2839b44f4fed09b
X-WR-TIMEZONE:America/New_York
BEGIN:VTIMEZONE
TZID:America/New_York
BEGIN:STANDARD
TZNAME:EST
DTSTART:20241103T020000
TZOFFSETFROM:-0400
TZOFFSETTO:-0500
RDATE:20251102T020000
RDATE:20261101T020000
END:STANDARD
BEGIN:DAYLIGHT
TZNAME:EDT
DTSTART:20250309T020000
TZOFFSETFROM:-0500
TZOFFSETTO:-0400
RDATE:20260308T020000
END:DAYLIGHT
END:VTIMEZONE
BEGIN:VEVENT
UID:1d4b2911-14db-4d82-ad7b-ea4269d3511c
DTSTAMP:20260419T215547Z
DESCRIPTION:Join AIANY Emerging New York Architects for its spring 2025 Bey
 ond the Boards series\, starting with a tour of the newly completed award-
 winning NYPD 40th Precinct\, designed by BIG—Bjarke Ingels Group. The proj
 ect is an excellent showcase of the New York City Department of Design and
  Construction (DDC)’s Design and Construction Excellence program for publi
 c works. The tour will be led by Aran Coakley\, Associate and Project Arch
 itect at BIG\, with representatives from DDC. It's a great chance to exper
 ience firsthand how the city works in partnership with creative and experi
 enced design professionals to deliver high-quality public buildings.
DTSTART;TZID=America/New_York:20250502T160000
DTEND;TZID=America/New_York:20250502T180000
LOCATION:
SUMMARY:ENYA Beyond the Boards: NYPD 40th Precinct with BIG
END:VEVENT
END:VCALENDAR
