BEGIN:VCALENDAR
VERSION:2.0
PRODID:-//3qinnovation.org//NONSGML kigkonsult.se iCalcreator 2.30.10//
CALSCALE:GREGORIAN
METHOD:PUBLISH
UID:08181800-437d-43c5-9cfc-181a97e0cbe7
X-WR-CALDESC:Celebrate Car-Free Earth Day on Saturday\, April 26th from 10a
 m to 4pm in multiple locations across all five boroughs of NYC.  (Car-Free
  Earth Day is an annual event hosted by NYC DOT.)\n\nProgramming will be p
 resented at signature and partner produced locations Citywide\, promoting 
 activism and education surrounding climate change\, sustainability\, and o
 ther relevant topics. The event also marks the official start to NYC’s Ope
 n Streets and Public Space Programming season.
X-WR-RELCALID:c63494840eda0950418b59243c63d30c
X-WR-TIMEZONE:America/New_York
BEGIN:VTIMEZONE
TZID:America/New_York
BEGIN:STANDARD
TZNAME:EST
DTSTART:20241103T020000
TZOFFSETFROM:-0400
TZOFFSETTO:-0500
RDATE:20251102T020000
END:STANDARD
BEGIN:DAYLIGHT
TZNAME:EDT
DTSTART:20250309T020000
TZOFFSETFROM:-0500
TZOFFSETTO:-0400
RDATE:20260308T020000
END:DAYLIGHT
END:VTIMEZONE
BEGIN:VEVENT
UID:42cbf415-22bb-4cb4-8493-31a3ba58abc3
DTSTAMP:20260419T232920Z
DESCRIPTION:Celebrate Car-Free Earth Day on Saturday\, April 26th from 10am
  to 4pm in multiple locations across all five boroughs of NYC.  (Car-Free 
 Earth Day is an annual event hosted by NYC DOT.)\n\nProgramming will be pr
 esented at signature and partner produced locations Citywide\, promoting a
 ctivism and education surrounding climate change\, sustainability\, and ot
 her relevant topics. The event also marks the official start to NYC’s Open
  Streets and Public Space Programming season.
DTSTART;TZID=America/New_York:20250426T100000
DTEND;TZID=America/New_York:20250426T160000
LOCATION:
SUMMARY:Open Streets: Car-Free Earth Day
END:VEVENT
END:VCALENDAR
