BEGIN:VCALENDAR
VERSION:2.0
PRODID:-//3qinnovation.org//NONSGML kigkonsult.se iCalcreator 2.30.10//
CALSCALE:GREGORIAN
METHOD:PUBLISH
UID:245fd9cc-7b4f-48eb-9c25-50e60d871e55
X-WR-CALDESC:Even though the majority of construction waste is recyclable\,
  the overall recycling rate for construction and demolition waste in NYC i
 s estimated to be less than 50%.  Cooper Recycling in Brooklyn is maximizi
 ng material recovery by using custom-engineered equipment & state-of-the-a
 rt technology.\n\nOn April 24\, join Urban Green’s Emerging Professionals 
 for a tour of Cooper Recycling’s construction and demolition recycling fac
 ility in Brooklyn.  Get a firsthand look at the recycling process and lear
 n about certification & processing.\n\nPlease note Cooper Recycling is an 
 active transfer station.  Special clothing requirements and health alerts 
 are in place for this event.
X-WR-RELCALID:e7dcd79cd374075efb71a2ec39f6cd05
X-WR-TIMEZONE:America/New_York
BEGIN:VTIMEZONE
TZID:America/New_York
BEGIN:STANDARD
TZNAME:EST
DTSTART:20241103T020000
TZOFFSETFROM:-0400
TZOFFSETTO:-0500
RDATE:20251102T020000
END:STANDARD
BEGIN:DAYLIGHT
TZNAME:EDT
DTSTART:20250309T020000
TZOFFSETFROM:-0500
TZOFFSETTO:-0400
RDATE:20260308T020000
END:DAYLIGHT
END:VTIMEZONE
BEGIN:VEVENT
UID:110788ab-cd80-4436-b51d-e6bd11442401
DTSTAMP:20260419T232635Z
DESCRIPTION:Even though the majority of construction waste is recyclable\, 
 the overall recycling rate for construction and demolition waste in NYC is
  estimated to be less than 50%.  Cooper Recycling in Brooklyn is maximizin
 g material recovery by using custom-engineered equipment & state-of-the-ar
 t technology.\n\nOn April 24\, join Urban Green’s Emerging Professionals f
 or a tour of Cooper Recycling’s construction and demolition recycling faci
 lity in Brooklyn.  Get a firsthand look at the recycling process and learn
  about certification & processing.\n\nPlease note Cooper Recycling is an a
 ctive transfer station.  Special clothing requirements and health alerts a
 re in place for this event.
DTSTART;TZID=America/New_York:20250424T173000
DTEND;TZID=America/New_York:20250424T190000
LOCATION:
SUMMARY:EP Cooper Recycling Tour
END:VEVENT
END:VCALENDAR
