BEGIN:VCALENDAR
VERSION:2.0
PRODID:-//3qinnovation.org//NONSGML kigkonsult.se iCalcreator 2.30.10//
CALSCALE:GREGORIAN
METHOD:PUBLISH
UID:281b079e-ff8b-4298-8c6e-c8f75c3842be
X-WR-CALDESC:Join in the Earth Day festivities at NYU's Plant-Based Food Fe
 stival Spring 2025.  Enjoy free samples of delicious\, innovative plant-ba
 sed food and vegan cosmetics.  Also explore and learn about a variety of a
 nimal advocacy groups.
X-WR-RELCALID:f42de16643aa9a70521821e77c546882
X-WR-TIMEZONE:America/New_York
BEGIN:VTIMEZONE
TZID:America/New_York
BEGIN:STANDARD
TZNAME:EST
DTSTART:20241103T020000
TZOFFSETFROM:-0400
TZOFFSETTO:-0500
RDATE:20251102T020000
END:STANDARD
BEGIN:DAYLIGHT
TZNAME:EDT
DTSTART:20250309T020000
TZOFFSETFROM:-0500
TZOFFSETTO:-0400
RDATE:20260308T020000
END:DAYLIGHT
END:VTIMEZONE
BEGIN:VEVENT
UID:49dd214c-3db2-4db5-8eab-ca270cdb9575
DTSTAMP:20260419T233152Z
DESCRIPTION:Join in the Earth Day festivities at NYU's Plant-Based Food Fes
 tival Spring 2025.  Enjoy free samples of delicious\, innovative plant-bas
 ed food and vegan cosmetics.  Also explore and learn about a variety of an
 imal advocacy groups.
DTSTART;TZID=America/New_York:20250423T110000
DTEND;TZID=America/New_York:20250423T140000
LOCATION:
SUMMARY:Plant Based Food Festival Spring 2025
END:VEVENT
END:VCALENDAR
