BEGIN:VCALENDAR
VERSION:2.0
PRODID:-//3qinnovation.org//NONSGML kigkonsult.se iCalcreator 2.30.10//
CALSCALE:GREGORIAN
METHOD:PUBLISH
UID:b346cab8-1385-465a-a5d2-122d6fc6ed29
X-WR-CALDESC:Join in the Earth Day festivities at LaGuardia Community Colle
 ge on April 22nd!  LaGuardia will host a day dedicated to celebrating the 
 environment at its Annual Earth Day Festival.  Organized by the Sustainabi
 lity Council\, the Festival will feature environmental groups\, agencies\,
  & vendors from around the City\, games & activities\, and raffles & snack
 s.
X-WR-RELCALID:4011aeab993404e0b7ec6421c2142a45
X-WR-TIMEZONE:America/New_York
BEGIN:VTIMEZONE
TZID:America/New_York
BEGIN:STANDARD
TZNAME:EST
DTSTART:20241103T020000
TZOFFSETFROM:-0400
TZOFFSETTO:-0500
RDATE:20251102T020000
END:STANDARD
BEGIN:DAYLIGHT
TZNAME:EDT
DTSTART:20250309T020000
TZOFFSETFROM:-0500
TZOFFSETTO:-0400
RDATE:20260308T020000
END:DAYLIGHT
END:VTIMEZONE
BEGIN:VEVENT
UID:caa5d758-42ff-491a-bf8e-284492ce5896
DTSTAMP:20260419T232629Z
DESCRIPTION:Join in the Earth Day festivities at LaGuardia Community Colleg
 e on April 22nd!  LaGuardia will host a day dedicated to celebrating the e
 nvironment at its Annual Earth Day Festival.  Organized by the Sustainabil
 ity Council\, the Festival will feature environmental groups\, agencies\, 
 & vendors from around the City\, games & activities\, and raffles & snacks
 .
DTSTART;TZID=America/New_York:20250422T120000
DTEND;TZID=America/New_York:20250422T160000
LOCATION:
SUMMARY:Greenway Earth Day
END:VEVENT
END:VCALENDAR
