BEGIN:VCALENDAR
VERSION:2.0
PRODID:-//3qinnovation.org//NONSGML kigkonsult.se iCalcreator 2.30.10//
CALSCALE:GREGORIAN
METHOD:PUBLISH
UID:0ad720b7-60b3-4a6a-980a-b05b9cd65683
X-WR-CALDESC:Join New York University for its Third Annual Climate Change F
 ilm Festival - a showcase of science-driven\, climate-focused events | fil
 ms aimed at raising awareness\, presenting innovative solutions\, and insp
 iring positive change.
X-WR-RELCALID:dca048d6cf1c57b1eb275c6f772d707f
X-WR-TIMEZONE:America/New_York
BEGIN:VTIMEZONE
TZID:America/New_York
BEGIN:STANDARD
TZNAME:EST
DTSTART:20241103T020000
TZOFFSETFROM:-0400
TZOFFSETTO:-0500
RDATE:20251102T020000
END:STANDARD
BEGIN:DAYLIGHT
TZNAME:EDT
DTSTART:20250309T020000
TZOFFSETFROM:-0500
TZOFFSETTO:-0400
RDATE:20260308T020000
END:DAYLIGHT
END:VTIMEZONE
BEGIN:VEVENT
UID:32585110-97bc-4133-82ef-59f4903f2248
DTSTAMP:20260419T233126Z
DESCRIPTION:Join New York University for its Third Annual Climate Change Fi
 lm Festival - a showcase of science-driven\, climate-focused events | film
 s aimed at raising awareness\, presenting innovative solutions\, and inspi
 ring positive change.
DTSTART;TZID=America/New_York:20250421T120000
DTEND;TZID=America/New_York:20250421T183000
LOCATION:
SUMMARY:3rd Annual Climate Change Film Festival
END:VEVENT
END:VCALENDAR
