BEGIN:VCALENDAR
VERSION:2.0
PRODID:-//3qinnovation.org//NONSGML kigkonsult.se iCalcreator 2.30.10//
CALSCALE:GREGORIAN
METHOD:PUBLISH
UID:7265d3cb-baef-48c7-bf60-90344fe0ed19
X-WR-CALDESC:The SoHo-Cast Iron Historic District\, created in 1973\, is do
 minated by remarkably intact mid-19th century architecture. Originally des
 igned for both commercial and manufacturing uses\, most of these buildings
  have been adapted for residential use. Meanwhile\, over the last three de
 cades\, several entirely new buildings have been approved by the NYC Landm
 arks Preservation Commission as “appropriate' for inclusion within the dis
 trict.\n\nThis tour looks at these recent buildings as well as significant
  historic sites to examine a range of design strategies—some highly contex
 tual and others more interpretive—for historic districts.
X-WR-RELCALID:5bf3131b5303c9e6288daf9942fffd73
X-WR-TIMEZONE:America/New_York
BEGIN:VTIMEZONE
TZID:America/New_York
BEGIN:STANDARD
TZNAME:EST
DTSTART:20241103T020000
TZOFFSETFROM:-0400
TZOFFSETTO:-0500
RDATE:20251102T020000
END:STANDARD
BEGIN:DAYLIGHT
TZNAME:EDT
DTSTART:20250309T020000
TZOFFSETFROM:-0500
TZOFFSETTO:-0400
RDATE:20260308T020000
END:DAYLIGHT
END:VTIMEZONE
BEGIN:VEVENT
UID:15b69e63-6f56-43df-b4f3-2418074909ae
DTSTAMP:20260419T233240Z
DESCRIPTION:The SoHo-Cast Iron Historic District\, created in 1973\, is dom
 inated by remarkably intact mid-19th century architecture. Originally desi
 gned for both commercial and manufacturing uses\, most of these buildings 
 have been adapted for residential use. Meanwhile\, over the last three dec
 ades\, several entirely new buildings have been approved by the NYC Landma
 rks Preservation Commission as “appropriate' for inclusion within the dist
 rict.\n\nThis tour looks at these recent buildings as well as significant 
 historic sites to examine a range of design strategies—some highly context
 ual and others more interpretive—for historic districts.
DTSTART;TZID=America/New_York:20250419T110000
DTEND;TZID=America/New_York:20250419T130000
LOCATION:
SUMMARY:Walking Tour: Historic Buildings and New Interventions in SoHo
END:VEVENT
END:VCALENDAR
