BEGIN:VCALENDAR
VERSION:2.0
PRODID:-//3qinnovation.org//NONSGML kigkonsult.se iCalcreator 2.30.10//
CALSCALE:GREGORIAN
METHOD:PUBLISH
UID:054cd6e3-16d3-4461-9e2f-8fbd0d5cdfdc
X-WR-CALDESC:Students investigate the history of housing and consider what’
 s in store for the future. This class will explore historic homes to see h
 ow people lived in the past\, discover advancements in green architecture 
 today\, and speculate about how we might live in the future. For their fin
 al project\, students will design and build their own scale model for a ho
 use of the future. \n\n*This program is during NYC Public School Spring Br
 eak* and need-based scholarships are available.
X-WR-RELCALID:b7715502620cf47cc6f9d672a204ab16
X-WR-TIMEZONE:America/New_York
BEGIN:VTIMEZONE
TZID:America/New_York
BEGIN:STANDARD
TZNAME:EST
DTSTART:20241103T020000
TZOFFSETFROM:-0400
TZOFFSETTO:-0500
RDATE:20251102T020000
END:STANDARD
BEGIN:DAYLIGHT
TZNAME:EDT
DTSTART:20250309T020000
TZOFFSETFROM:-0500
TZOFFSETTO:-0400
RDATE:20260308T020000
END:DAYLIGHT
END:VTIMEZONE
BEGIN:VEVENT
UID:62c6d8a8-97af-446a-8d10-9ab4551257bb
DTSTAMP:20260419T233003Z
DESCRIPTION:Students investigate the history of housing and consider what’s
  in store for the future. This class will explore historic homes to see ho
 w people lived in the past\, discover advancements in green architecture t
 oday\, and speculate about how we might live in the future. For their fina
 l project\, students will design and build their own scale model for a hou
 se of the future. \n\n*This program is during NYC Public School Spring Bre
 ak* and need-based scholarships are available.
DTSTART;TZID=America/New_York:20250417T090000
DTEND;TZID=America/New_York:20250417T160000
LOCATION:
SUMMARY:Vacation Program: Houses of the Future (Grades 6 – 8)
END:VEVENT
END:VCALENDAR
