BEGIN:VCALENDAR
VERSION:2.0
PRODID:-//3qinnovation.org//NONSGML kigkonsult.se iCalcreator 2.30.10//
CALSCALE:GREGORIAN
METHOD:PUBLISH
UID:e4c4485a-9f55-4913-bde6-8020fab8165c
X-WR-CALDESC:Join in the Earth Day festivities at NYC's Union Square on Apr
 il 17th!  Explore exhibits by dozens of environmental nonprofits\, climate
  campaigns\, green living experts\, and sustainable businesses.  Check out
  a Clean Energy Exhibition in partnership with Con Edison\, interactive wo
 rkshops\, live performances from Hila the Earth and APO HAHA CALYPSE and c
 limate-themed art.
X-WR-RELCALID:e422a5b55d3abdd1d36f80d2231a39eb
X-WR-TIMEZONE:America/New_York
BEGIN:VTIMEZONE
TZID:America/New_York
BEGIN:STANDARD
TZNAME:EST
DTSTART:20241103T020000
TZOFFSETFROM:-0400
TZOFFSETTO:-0500
RDATE:20251102T020000
END:STANDARD
BEGIN:DAYLIGHT
TZNAME:EDT
DTSTART:20250309T020000
TZOFFSETFROM:-0500
TZOFFSETTO:-0400
RDATE:20260308T020000
END:DAYLIGHT
END:VTIMEZONE
BEGIN:VEVENT
UID:6680a131-62f2-41d2-8723-e2145301f894
DTSTAMP:20260419T233236Z
DESCRIPTION:Join in the Earth Day festivities at NYC's Union Square on Apri
 l 17th!  Explore exhibits by dozens of environmental nonprofits\, climate 
 campaigns\, green living experts\, and sustainable businesses.  Check out 
 a Clean Energy Exhibition in partnership with Con Edison\, interactive wor
 kshops\, live performances from Hila the Earth and APO HAHA CALYPSE and cl
 imate-themed art.
DTSTART;TZID=America/New_York:20250417T120000
DTEND;TZID=America/New_York:20250417T180000
LOCATION:
SUMMARY:Earth Day 2025 Festival
END:VEVENT
END:VCALENDAR
