BEGIN:VCALENDAR
VERSION:2.0
PRODID:-//3qinnovation.org//NONSGML kigkonsult.se iCalcreator 2.30.10//
CALSCALE:GREGORIAN
METHOD:PUBLISH
UID:bbe74ab2-a911-4e0d-ba67-338923692e44
X-WR-CALDESC:Explore part of the largest steam system in the country\, Con 
 Edison’s East River Generating Station! Discover the steam plant’s key com
 ponents and gain insight into the processes that power New York’s steam sy
 stem. Attendees will gain insight into the plant’s operations\, how distri
 ct steam is produced\, and its role in providing heat to the city. \n\nThi
 s tour is the second half of a series on decarbonizing Con Edison’s distri
 ct steam system\, following an Urban Green Live interview with Con Edison 
 President Matt Ketschke held on March 19.
X-WR-RELCALID:107475839f9bf178c7664fdc64b4069c
X-WR-TIMEZONE:America/New_York
BEGIN:VTIMEZONE
TZID:America/New_York
BEGIN:STANDARD
TZNAME:EST
DTSTART:20241103T020000
TZOFFSETFROM:-0400
TZOFFSETTO:-0500
RDATE:20251102T020000
END:STANDARD
BEGIN:DAYLIGHT
TZNAME:EDT
DTSTART:20250309T020000
TZOFFSETFROM:-0500
TZOFFSETTO:-0400
RDATE:20260308T020000
END:DAYLIGHT
END:VTIMEZONE
BEGIN:VEVENT
UID:a3bafba6-e5df-4813-8c0f-0c2a40d14eb0
DTSTAMP:20260419T232707Z
DESCRIPTION:Explore part of the largest steam system in the country\, Con E
 dison’s East River Generating Station! Discover the steam plant’s key comp
 onents and gain insight into the processes that power New York’s steam sys
 tem. Attendees will gain insight into the plant’s operations\, how distric
 t steam is produced\, and its role in providing heat to the city. \n\nThis
  tour is the second half of a series on decarbonizing Con Edison’s distric
 t steam system\, following an Urban Green Live interview with Con Edison P
 resident Matt Ketschke held on March 19.
DTSTART;TZID=America/New_York:20250416T110000
DTEND;TZID=America/New_York:20250416T130000
LOCATION:
SUMMARY:Tour: Con Edison’s District Steam System
END:VEVENT
END:VCALENDAR
