BEGIN:VCALENDAR
VERSION:2.0
PRODID:-//3qinnovation.org//NONSGML kigkonsult.se iCalcreator 2.30.10//
CALSCALE:GREGORIAN
METHOD:PUBLISH
UID:08bd53b7-6ff1-45f5-87e4-6cf189f336e3
X-WR-CALDESC:If you are a homeowner\, business owner\, contractor\, archite
 ct\, urban planner\, landscape architect or resident of a fire-affected co
 mmunity looking to rebuild a resilient and sustainable home or a professio
 nal looking to deepen your understanding and skillset in sustainable desig
 n and building this webinar is for you!\n\nUS Green Building Council-Calif
 ornia\, with technical support from Arup and our Wildfire Defense Advisory
  Committee\, has been developing a Wildfire Recovery and Rebuilding Guide 
 to support those affected by LA Wildfires. This group of experts in wildfi
 re recovery\, sustainable building\, and community resilience have identif
 ied key early decisions that homeowners and building professionals will fa
 ce and provided guidance to help them make the best decisions on their pat
 hway to rebuilding.
X-WR-RELCALID:57f3c44ea9b4225c3ed2b23fa20bd903
X-WR-TIMEZONE:America/New_York
BEGIN:VTIMEZONE
TZID:America/New_York
BEGIN:STANDARD
TZNAME:EST
DTSTART:20241103T020000
TZOFFSETFROM:-0400
TZOFFSETTO:-0500
RDATE:20251102T020000
END:STANDARD
BEGIN:DAYLIGHT
TZNAME:EDT
DTSTART:20250309T020000
TZOFFSETFROM:-0500
TZOFFSETTO:-0400
RDATE:20260308T020000
END:DAYLIGHT
END:VTIMEZONE
BEGIN:VEVENT
UID:a430dfb1-e380-4af5-ad07-a8c89fb01a43
DTSTAMP:20260419T232941Z
DESCRIPTION:If you are a homeowner\, business owner\, contractor\, architec
 t\, urban planner\, landscape architect or resident of a fire-affected com
 munity looking to rebuild a resilient and sustainable home or a profession
 al looking to deepen your understanding and skillset in sustainable design
  and building this webinar is for you!\n\nUS Green Building Council-Califo
 rnia\, with technical support from Arup and our Wildfire Defense Advisory 
 Committee\, has been developing a Wildfire Recovery and Rebuilding Guide t
 o support those affected by LA Wildfires. This group of experts in wildfir
 e recovery\, sustainable building\, and community resilience have identifi
 ed key early decisions that homeowners and building professionals will fac
 e and provided guidance to help them make the best decisions on their path
 way to rebuilding.
DTSTART;TZID=America/New_York:20250409T200000
DTEND;TZID=America/New_York:20250409T210000
LOCATION:
SUMMARY:California Wildfire Recovery + Rebuilding Guide Launch Webinar
END:VEVENT
END:VCALENDAR
