BEGIN:VCALENDAR
VERSION:2.0
PRODID:-//3qinnovation.org//NONSGML kigkonsult.se iCalcreator 2.30.10//
CALSCALE:GREGORIAN
METHOD:PUBLISH
UID:d3d5eb10-cc9f-421f-9663-fba3e56fd46e
X-WR-CALDESC:Decarbonizing Your Building: A Workshop to Help You Strategize
  & Electrify\n\nIn this workshop for co-op board members\, residential bui
 lding owners\, and property managers — learn from technical experts and in
 dustry professionals about heat pumps\, heat pump hot water heaters\, and 
 other high-performance technologies to make your residential building more
  efficient\, healthy\, and safe.
X-WR-RELCALID:b0404d717b3dd80ec2124b18f4315c3a
X-WR-TIMEZONE:America/New_York
BEGIN:VTIMEZONE
TZID:America/New_York
BEGIN:STANDARD
TZNAME:EST
DTSTART:20241103T020000
TZOFFSETFROM:-0400
TZOFFSETTO:-0500
RDATE:20251102T020000
END:STANDARD
BEGIN:DAYLIGHT
TZNAME:EDT
DTSTART:20250309T020000
TZOFFSETFROM:-0500
TZOFFSETTO:-0400
RDATE:20260308T020000
END:DAYLIGHT
END:VTIMEZONE
BEGIN:VEVENT
UID:94c7e207-70d9-4816-8719-efc5bab9c18a
DTSTAMP:20260419T232502Z
DESCRIPTION:Decarbonizing Your Building: A Workshop to Help You Strategize 
 & Electrify\n\nIn this workshop for co-op board members\, residential buil
 ding owners\, and property managers — learn from technical experts and ind
 ustry professionals about heat pumps\, heat pump hot water heaters\, and o
 ther high-performance technologies to make your residential building more 
 efficient\, healthy\, and safe.
DTSTART;TZID=America/New_York:20250407T180000
DTEND;TZID=America/New_York:20250407T200000
LOCATION:
SUMMARY:Decarbonizing Your Building Workshop – D6
END:VEVENT
END:VCALENDAR
