BEGIN:VCALENDAR
VERSION:2.0
PRODID:-//3qinnovation.org//NONSGML kigkonsult.se iCalcreator 2.30.10//
CALSCALE:GREGORIAN
METHOD:PUBLISH
UID:0069eea3-5a2d-4497-ab4f-a2c7345e0ea9
X-WR-CALDESC:Two critical events irreparably changed Manhattan’s Upper East
  Side into the residential district it is today—the creation of Central Pa
 rk (1857) and Park Avenue north of Grand Central Terminal (1888). While Ce
 ntral Park defined the Upper East Side\; Park Avenue refined it. Wealth fo
 llowed the open and recreational spaces of Central Park while Park Avenue 
 effectively separated the served from the servants—and those in between. 
 \n\nIn addition to the professional class that settled on Park Avenue\, or
  closely to its eastside\, artisanal and working-class immigrant ethnic co
 mmunities developed between Lexington Avenue and the East River. Hospitals
  and medical facilities evolved along the East River because of its saluta
 ry open space (and distance from the wealthy)—no “Magic Mountain” here for
  those with Tuberculosis. \n\nCome explore the major shifts in the social\
 , economic\, political\, and physical evolution of NYC's UES.
X-WR-RELCALID:728f1b46561f440dfc18f9c0b0ec5123
X-WR-TIMEZONE:America/New_York
BEGIN:VTIMEZONE
TZID:America/New_York
BEGIN:STANDARD
TZNAME:EST
DTSTART:20241103T020000
TZOFFSETFROM:-0400
TZOFFSETTO:-0500
RDATE:20251102T020000
END:STANDARD
BEGIN:DAYLIGHT
TZNAME:EDT
DTSTART:20250309T020000
TZOFFSETFROM:-0500
TZOFFSETTO:-0400
RDATE:20260308T020000
END:DAYLIGHT
END:VTIMEZONE
BEGIN:VEVENT
UID:91f1124f-db1b-42a9-8a0f-30cd4e0caa5f
DTSTAMP:20260419T233250Z
DESCRIPTION:Two critical events irreparably changed Manhattan’s Upper East 
 Side into the residential district it is today—the creation of Central Par
 k (1857) and Park Avenue north of Grand Central Terminal (1888). While Cen
 tral Park defined the Upper East Side\; Park Avenue refined it. Wealth fol
 lowed the open and recreational spaces of Central Park while Park Avenue e
 ffectively separated the served from the servants—and those in between. \n
 \nIn addition to the professional class that settled on Park Avenue\, or c
 losely to its eastside\, artisanal and working-class immigrant ethnic comm
 unities developed between Lexington Avenue and the East River. Hospitals a
 nd medical facilities evolved along the East River because of its salutary
  open space (and distance from the wealthy)—no “Magic Mountain” here for t
 hose with Tuberculosis. \n\nCome explore the major shifts in the social\, 
 economic\, political\, and physical evolution of NYC's UES.
DTSTART;TZID=America/New_York:20250406T103000
DTEND;TZID=America/New_York:20250406T123000
LOCATION:
SUMMARY:Walking Tour: From Luxury to Tuberculosis in the Upper East Side
END:VEVENT
END:VCALENDAR
