BEGIN:VCALENDAR
VERSION:2.0
PRODID:-//3qinnovation.org//NONSGML kigkonsult.se iCalcreator 2.30.10//
CALSCALE:GREGORIAN
METHOD:PUBLISH
UID:27600109-fcf9-4537-aafd-ecd4bca95a3c
X-WR-CALDESC:Join the Center for Architecture for an introduction to readin
 g and creating drawings such as plans and elevations. This hands-on worksh
 op will include exercises in line weights\, drafted lettering\, and learni
 ng to read and utilize an architect’s scale. Participants' new skills will
  culminate in hand drafted plans and elevations drawn to scale. (All mater
 ials will be provided.) \n
X-WR-RELCALID:814c5326bf56e67b2cb46ae29766f344
X-WR-TIMEZONE:America/New_York
BEGIN:VTIMEZONE
TZID:America/New_York
BEGIN:STANDARD
TZNAME:EST
DTSTART:20241103T020000
TZOFFSETFROM:-0400
TZOFFSETTO:-0500
RDATE:20251102T020000
END:STANDARD
BEGIN:DAYLIGHT
TZNAME:EDT
DTSTART:20250309T020000
TZOFFSETFROM:-0500
TZOFFSETTO:-0400
RDATE:20260308T020000
END:DAYLIGHT
END:VTIMEZONE
BEGIN:VEVENT
UID:81f0e623-98bc-48fa-96b1-59454fd1612b
DTSTAMP:20260419T232634Z
DESCRIPTION:Join the Center for Architecture for an introduction to reading
  and creating drawings such as plans and elevations. This hands-on worksho
 p will include exercises in line weights\, drafted lettering\, and learnin
 g to read and utilize an architect’s scale. Participants' new skills will 
 culminate in hand drafted plans and elevations drawn to scale. (All materi
 als will be provided.) \n
DTSTART;TZID=America/New_York:20250405T100000
DTEND;TZID=America/New_York:20250405T160000
LOCATION:
SUMMARY:Teen Workshop: Plan and Elevation Drawing (Grades 9-12)
END:VEVENT
END:VCALENDAR
