BEGIN:VCALENDAR
VERSION:2.0
PRODID:-//3qinnovation.org//NONSGML kigkonsult.se iCalcreator 2.30.10//
CALSCALE:GREGORIAN
METHOD:PUBLISH
UID:002681af-3202-4a47-a0cd-c911964090f2
X-WR-CALDESC:Join the US Green Building Council-California Green Schools Co
 mmittee for a campus greening webinar designed for schools and school dist
 ricts.\n\nThe webinar will highlight resource opportunities and funding su
 pport available to help school districts achieve their sustainability goal
 s.  Topics will include: implementing recycling and composting programs\, 
 reducing extreme heat\, and using biophilic design principles to reduce op
 erational costs and improve whole body wellness for staff and students.
X-WR-RELCALID:8b09ee7bddc5bcee9a335bf1b7985895
X-WR-TIMEZONE:America/New_York
BEGIN:VTIMEZONE
TZID:America/New_York
BEGIN:STANDARD
TZNAME:EST
DTSTART:20241103T020000
TZOFFSETFROM:-0400
TZOFFSETTO:-0500
RDATE:20251102T020000
END:STANDARD
BEGIN:DAYLIGHT
TZNAME:EDT
DTSTART:20250309T020000
TZOFFSETFROM:-0500
TZOFFSETTO:-0400
RDATE:20260308T020000
END:DAYLIGHT
END:VTIMEZONE
BEGIN:VEVENT
UID:f414551b-d121-422d-b056-36180ae00bbd
DTSTAMP:20260420T011116Z
DESCRIPTION:Join the US Green Building Council-California Green Schools Com
 mittee for a campus greening webinar designed for schools and school distr
 icts.\n\nThe webinar will highlight resource opportunities and funding sup
 port available to help school districts achieve their sustainability goals
 .  Topics will include: implementing recycling and composting programs\, r
 educing extreme heat\, and using biophilic design principles to reduce ope
 rational costs and improve whole body wellness for staff and students.
DTSTART;TZID=America/New_York:20250326T150000
DTEND;TZID=America/New_York:20250326T160000
LOCATION:
SUMMARY:Green Your School: Opportunities\, Funding\, & Resources
END:VEVENT
END:VCALENDAR
