BEGIN:VCALENDAR
VERSION:2.0
PRODID:-//3qinnovation.org//NONSGML kigkonsult.se iCalcreator 2.30.10//
CALSCALE:GREGORIAN
METHOD:PUBLISH
UID:a8ee2ee8-6430-4782-86eb-c35ce257700c
X-WR-CALDESC:Decarbonizing Your Building: A Workshop to Help You Strategize
  & Electrify\n\nIn this workshop for co-op board members\, residential bui
 lding owners\, and property managers — learn from technical experts and in
 dustry professionals about heat pumps\, heat pump hot water heaters\, and 
 other high-performance technologies to make your residential building more
  efficient\, healthy\, and safe.
X-WR-RELCALID:3da35a02b8ccfe2fa3d7014d628ef26c
X-WR-TIMEZONE:America/New_York
BEGIN:VTIMEZONE
TZID:America/New_York
BEGIN:STANDARD
TZNAME:EST
DTSTART:20241103T020000
TZOFFSETFROM:-0400
TZOFFSETTO:-0500
RDATE:20251102T020000
END:STANDARD
BEGIN:DAYLIGHT
TZNAME:EDT
DTSTART:20250309T020000
TZOFFSETFROM:-0500
TZOFFSETTO:-0400
RDATE:20260308T020000
END:DAYLIGHT
END:VTIMEZONE
BEGIN:VEVENT
UID:082794cd-94a7-453b-b65e-93a53b032028
DTSTAMP:20260420T010218Z
DESCRIPTION:Decarbonizing Your Building: A Workshop to Help You Strategize 
 & Electrify\n\nIn this workshop for co-op board members\, residential buil
 ding owners\, and property managers — learn from technical experts and ind
 ustry professionals about heat pumps\, heat pump hot water heaters\, and o
 ther high-performance technologies to make your residential building more 
 efficient\, healthy\, and safe.
DTSTART;TZID=America/New_York:20250324T180000
DTEND;TZID=America/New_York:20250324T200000
LOCATION:
SUMMARY:Decarbonizing Your Building Workshop – D33
END:VEVENT
END:VCALENDAR
