BEGIN:VCALENDAR
VERSION:2.0
PRODID:-//3qinnovation.org//NONSGML kigkonsult.se iCalcreator 2.30.10//
CALSCALE:GREGORIAN
METHOD:PUBLISH
UID:35e751cc-b4c4-45f2-9454-9ef52a2f750c
X-WR-CALDESC:BuildingEnergy Boston is a conference designed by and for prac
 titioners in the fields of high-performance building and design\, energy e
 fficiency\, and renewable energy.  It brings more than 1\,000 industry lea
 ders and emerging professionals together to learn from and share ideas wit
 h each other. \n\nThe BuildingEnergy Boston 2025 Conference theme is about
  working together to 'Build the Movement' - and will take place as an in-p
 erson conference at the Westin Boston Seaport District March 20th-21st. \n
 \nAs the need for more buildings collides with the growing climate crisis\
 , now is the time for practical\, scalable building design and constructio
 n solutions that meet the needs of both the planet and the people who live
  here.  To meet this challenge\, we need to reach beyond the relatively sm
 all network of early adopters and climate activists\, improving how we com
 municate our ideas\, developing solutions that work on a large scale\, and
  building a workforce of informed and willing practitioners.
X-WR-RELCALID:9037fd69acf204ee553d6fde42a02a7f
X-WR-TIMEZONE:America/New_York
BEGIN:VTIMEZONE
TZID:America/New_York
BEGIN:STANDARD
TZNAME:EST
DTSTART:20241103T020000
TZOFFSETFROM:-0400
TZOFFSETTO:-0500
RDATE:20251102T020000
END:STANDARD
BEGIN:DAYLIGHT
TZNAME:EDT
DTSTART:20250309T020000
TZOFFSETFROM:-0500
TZOFFSETTO:-0400
RDATE:20260308T020000
END:DAYLIGHT
END:VTIMEZONE
BEGIN:VEVENT
UID:25b56796-c5af-458b-a245-39420a7b1e29
DTSTAMP:20260420T010427Z
DESCRIPTION:BuildingEnergy Boston is a conference designed by and for pract
 itioners in the fields of high-performance building and design\, energy ef
 ficiency\, and renewable energy.  It brings more than 1\,000 industry lead
 ers and emerging professionals together to learn from and share ideas with
  each other. \n\nThe BuildingEnergy Boston 2025 Conference theme is about 
 working together to 'Build the Movement' - and will take place as an in-pe
 rson conference at the Westin Boston Seaport District March 20th-21st. \n
 \nAs the need for more buildings collides with the growing climate crisis\
 , now is the time for practical\, scalable building design and constructio
 n solutions that meet the needs of both the planet and the people who live
  here.  To meet this challenge\, we need to reach beyond the relatively sm
 all network of early adopters and climate activists\, improving how we com
 municate our ideas\, developing solutions that work on a large scale\, and
  building a workforce of informed and willing practitioners.
DTSTART;TZID=America/New_York:20250320T060000
DTEND;TZID=America/New_York:20250320T060001
LOCATION:Boston\, Massachusetts
SUMMARY:BuildingEnergy Boston | NESEA
END:VEVENT
END:VCALENDAR
