BEGIN:VCALENDAR
VERSION:2.0
PRODID:-//3qinnovation.org//NONSGML kigkonsult.se iCalcreator 2.30.10//
CALSCALE:GREGORIAN
METHOD:PUBLISH
UID:04a1bbe7-7f71-4db2-a32c-de0ad86a63f6
X-WR-CALDESC:Join UGC for the next episode of Urban Green Live\, a series f
 eaturing industry experts who share insights and then answer YOUR question
 s about a low carbon future.  \n\nCon Edison’s centralized district steam 
 system serves more than 3 million New Yorkers and over 1\,500 buildings in
  Manhattan\, from the Financial District to 96th Street. In this episode o
 f Urban Green Live\, hear from Matthew Ketschke\, President of Con Edison\
 , about pathways to decarbonizing NYC’s district steam system—the largest 
 in the country.
X-WR-RELCALID:fb4699925549e6979dd1e9f979c49814
X-WR-TIMEZONE:America/New_York
BEGIN:VTIMEZONE
TZID:America/New_York
BEGIN:STANDARD
TZNAME:EST
DTSTART:20241103T020000
TZOFFSETFROM:-0400
TZOFFSETTO:-0500
RDATE:20251102T020000
END:STANDARD
BEGIN:DAYLIGHT
TZNAME:EDT
DTSTART:20250309T020000
TZOFFSETFROM:-0500
TZOFFSETTO:-0400
RDATE:20260308T020000
END:DAYLIGHT
END:VTIMEZONE
BEGIN:VEVENT
UID:2a440571-3cf8-411d-a4fd-7f1a0b71afda
DTSTAMP:20260420T011111Z
DESCRIPTION:Join UGC for the next episode of Urban Green Live\, a series fe
 aturing industry experts who share insights and then answer YOUR questions
  about a low carbon future.  \n\nCon Edison’s centralized district steam s
 ystem serves more than 3 million New Yorkers and over 1\,500 buildings in 
 Manhattan\, from the Financial District to 96th Street. In this episode of
  Urban Green Live\, hear from Matthew Ketschke\, President of Con Edison\,
  about pathways to decarbonizing NYC’s district steam system—the largest i
 n the country.
DTSTART;TZID=America/New_York:20250319T100000
DTEND;TZID=America/New_York:20250319T110000
LOCATION:
SUMMARY:Urban Green Live: Decarbonizing Con Edison’s district steam
END:VEVENT
END:VCALENDAR
