BEGIN:VCALENDAR
VERSION:2.0
PRODID:-//3qinnovation.org//NONSGML kigkonsult.se iCalcreator 2.30.10//
CALSCALE:GREGORIAN
METHOD:PUBLISH
UID:efad8d73-cfea-49f8-9f49-03e955ac9799
X-WR-CALDESC:New York Build (March 12-13\, 2025 Javits Center) is the large
 st construction\, design and real estate show for New York. Now in it’s ni
 nth year\, your ticket gives you access to 500+ expert speakers\, 500+ exh
 ibitors\, 40\,000+ attendees\, 14 conference tracks and AIA CES approved w
 orkshops\, networking parties\, entertainment\, live music\, and endless n
 etworking opportunities with leading architects\, developers\, housebuilde
 rs\, contractors\, government and more.\n\n
X-WR-RELCALID:e889d0a8a90e288148269e6f42f4a9af
X-WR-TIMEZONE:America/New_York
BEGIN:VTIMEZONE
TZID:America/New_York
BEGIN:STANDARD
TZNAME:EST
DTSTART:20241103T020000
TZOFFSETFROM:-0400
TZOFFSETTO:-0500
RDATE:20251102T020000
END:STANDARD
BEGIN:DAYLIGHT
TZNAME:EDT
DTSTART:20250309T020000
TZOFFSETFROM:-0500
TZOFFSETTO:-0400
RDATE:20260308T020000
END:DAYLIGHT
END:VTIMEZONE
BEGIN:VEVENT
UID:b7a9ca67-47aa-4bc2-95e8-a254190d1ea1
DTSTAMP:20260420T010517Z
DESCRIPTION:New York Build (March 12-13\, 2025 Javits Center) is the larges
 t construction\, design and real estate show for New York. Now in it’s nin
 th year\, your ticket gives you access to 500+ expert speakers\, 500+ exhi
 bitors\, 40\,000+ attendees\, 14 conference tracks and AIA CES approved wo
 rkshops\, networking parties\, entertainment\, live music\, and endless ne
 tworking opportunities with leading architects\, developers\, housebuilder
 s\, contractors\, government and more.\n\n
DTSTART;TZID=America/New_York:20250313T060000
DTEND;TZID=America/New_York:20250313T060001
LOCATION:Javits Center
SUMMARY:New York Build 2025
END:VEVENT
END:VCALENDAR
