BEGIN:VCALENDAR
VERSION:2.0
PRODID:-//3qinnovation.org//NONSGML kigkonsult.se iCalcreator 2.30.10//
CALSCALE:GREGORIAN
METHOD:PUBLISH
UID:58d8ec22-1bbe-43f7-8007-ee1be75c782e
X-WR-CALDESC:New York Build (March 12-13\, 2025 Javits Center) is the large
 st construction\, design and real estate show for New York. Now in it’s ni
 nth year\, your ticket gives you access to 500+ expert speakers\, 500+ exh
 ibitors\, 40\,000+ attendees\, 14 conference tracks and AIA CES approved w
 orkshops\, networking parties\, entertainment\, live music\, and endless n
 etworking opportunities with leading architects\, developers\, housebuilde
 rs\, contractors\, government and more.\n\n
X-WR-RELCALID:9dd5c3e4bb3f612b626ad6e543b6c3c9
X-WR-TIMEZONE:America/New_York
BEGIN:VTIMEZONE
TZID:America/New_York
BEGIN:STANDARD
TZNAME:EST
DTSTART:20241103T020000
TZOFFSETFROM:-0400
TZOFFSETTO:-0500
RDATE:20251102T020000
END:STANDARD
BEGIN:DAYLIGHT
TZNAME:EDT
DTSTART:20250309T020000
TZOFFSETFROM:-0500
TZOFFSETTO:-0400
RDATE:20260308T020000
END:DAYLIGHT
END:VTIMEZONE
BEGIN:VEVENT
UID:56617abd-29b7-48b5-be0d-7ae3c70a10f6
DTSTAMP:20260420T010654Z
DESCRIPTION:New York Build (March 12-13\, 2025 Javits Center) is the larges
 t construction\, design and real estate show for New York. Now in it’s nin
 th year\, your ticket gives you access to 500+ expert speakers\, 500+ exhi
 bitors\, 40\,000+ attendees\, 14 conference tracks and AIA CES approved wo
 rkshops\, networking parties\, entertainment\, live music\, and endless ne
 tworking opportunities with leading architects\, developers\, housebuilder
 s\, contractors\, government and more.\n\n
DTSTART;TZID=America/New_York:20250312T060000
DTEND;TZID=America/New_York:20250312T060001
LOCATION:Javits Center
SUMMARY:New York Build 2025
END:VEVENT
END:VCALENDAR
