BEGIN:VCALENDAR
VERSION:2.0
PRODID:-//3qinnovation.org//NONSGML kigkonsult.se iCalcreator 2.30.10//
CALSCALE:GREGORIAN
METHOD:PUBLISH
UID:fac2c338-822f-4e6f-ae14-b0cdd1fb3031
X-WR-CALDESC:This is an in-person education offering taking place at Syracu
 se Center of Excellence in Energy and Environmental Systems\, 727 East Was
 hington Street\, Room 203\, Syracuse\, New York 13210.\n\nIn this course\,
  Urban Green Council offers building professionals the opportunity to lear
 n about the first steps necessary in transitioning from fossil-fueled heat
 ing and cooling systems to heat pumps.  Discover why heat pumps are the fu
 ture of building HVAC and gain the practical knowledge you need to lead an
  energy upgrade with confidence.\n\nThis course is ideal for architects\, 
 property owners\, managers and building staff (including building superint
 endents\, operators\, facility | property managers\, & operating engineers
 )\, developers\, contractors\, and energy consultants.
X-WR-RELCALID:9a6b4993e65e37b29d7fd03c9f6654c7
X-WR-TIMEZONE:America/New_York
BEGIN:VTIMEZONE
TZID:America/New_York
BEGIN:STANDARD
TZNAME:EST
DTSTART:20241103T020000
TZOFFSETFROM:-0400
TZOFFSETTO:-0500
RDATE:20251102T020000
END:STANDARD
BEGIN:DAYLIGHT
TZNAME:EDT
DTSTART:20250309T020000
TZOFFSETFROM:-0500
TZOFFSETTO:-0400
RDATE:20260308T020000
END:DAYLIGHT
END:VTIMEZONE
BEGIN:VEVENT
UID:a3a4a89b-4af9-4250-896c-624ce0dfcaa3
DTSTAMP:20260420T011328Z
DESCRIPTION:This is an in-person education offering taking place at Syracus
 e Center of Excellence in Energy and Environmental Systems\, 727 East Wash
 ington Street\, Room 203\, Syracuse\, New York 13210.\n\nIn this course\, 
 Urban Green Council offers building professionals the opportunity to learn
  about the first steps necessary in transitioning from fossil-fueled heati
 ng and cooling systems to heat pumps.  Discover why heat pumps are the fut
 ure of building HVAC and gain the practical knowledge you need to lead an 
 energy upgrade with confidence.\n\nThis course is ideal for architects\, p
 roperty owners\, managers and building staff (including building superinte
 ndents\, operators\, facility | property managers\, & operating engineers)
 \, developers\, contractors\, and energy consultants.
DTSTART;TZID=America/New_York:20250311T150000
DTEND;TZID=America/New_York:20250311T170000
LOCATION:
SUMMARY:Match Made in HVAC: Choosing the Right Heat Pump for Your Building 
 (Syracuse)
END:VEVENT
END:VCALENDAR
