BEGIN:VCALENDAR
VERSION:2.0
PRODID:-//3qinnovation.org//NONSGML kigkonsult.se iCalcreator 2.30.10//
CALSCALE:GREGORIAN
METHOD:PUBLISH
UID:bffce566-0e53-42c3-b163-c29bd52336d0
X-WR-CALDESC:The Climate Mobilization Act Series: Affordable Housing Traini
 ng educates affordable housing stakeholders – including building developer
 s\, owners\, architects\, engineers\, and contractors – on what the Climat
 e Mobilization Act (CMA) means for the affordable housing sector.\n\nThis 
 online training and live Q&A demystifies Local Law 97’s regulations for af
 fordable housing. Participants will gain a deeper understanding of what th
 eir compliance obligations are\, learn proven strategies to meet complianc
 e\, and reduce their carbon emissions.
X-WR-RELCALID:fdeed5a976f9dcd85acd98fa7f5f388d
X-WR-TIMEZONE:America/New_York
BEGIN:VTIMEZONE
TZID:America/New_York
BEGIN:STANDARD
TZNAME:EST
DTSTART:20241103T020000
TZOFFSETFROM:-0400
TZOFFSETTO:-0500
RDATE:20251102T020000
END:STANDARD
BEGIN:DAYLIGHT
TZNAME:EDT
DTSTART:20250309T020000
TZOFFSETFROM:-0500
TZOFFSETTO:-0400
RDATE:20260308T020000
END:DAYLIGHT
END:VTIMEZONE
BEGIN:VEVENT
UID:4c7c1d84-e6cd-4509-862e-2bd1900fb1cc
DTSTAMP:20260420T010947Z
DESCRIPTION:The Climate Mobilization Act Series: Affordable Housing Trainin
 g educates affordable housing stakeholders – including building developers
 \, owners\, architects\, engineers\, and contractors – on what the Climate
  Mobilization Act (CMA) means for the affordable housing sector.\n\nThis o
 nline training and live Q&A demystifies Local Law 97’s regulations for aff
 ordable housing. Participants will gain a deeper understanding of what the
 ir compliance obligations are\, learn proven strategies to meet compliance
 \, and reduce their carbon emissions.
DTSTART;TZID=America/New_York:20250311T093000
DTEND;TZID=America/New_York:20250311T103000
LOCATION:
SUMMARY:Climate Mobilization Act Series: Affordable Housing Training
END:VEVENT
END:VCALENDAR
