BEGIN:VCALENDAR
VERSION:2.0
PRODID:-//3qinnovation.org//NONSGML kigkonsult.se iCalcreator 2.30.10//
CALSCALE:GREGORIAN
METHOD:PUBLISH
UID:7786c9b9-7000-4a5a-8e0b-c1b456d01d67
X-WR-CALDESC:ACEEE’s Hot Air and Hot Water Forums are the nation’s premier 
 policy and technical conferences devoted to improving efficiency and decar
 bonizing space and water heating. The Forums bring together seasoned exper
 ts and new voices each year to discuss strategies for transforming the two
  biggest uses of energy in buildings.\n\nJoin ACEEE at the 2025 Forums to 
 explore ways to efficiently produce\, distribute\, and use hot water and d
 ecarbonizing space heating in buildings of all kinds through heat pumps. A
 lso explore how these two industries can reduce greenhouse gas emissions a
 nd energy bills\, improve grid resilience\, and center equity.
X-WR-RELCALID:592e914843c208a5cb669be8dd381196
X-WR-TIMEZONE:America/New_York
BEGIN:VTIMEZONE
TZID:America/New_York
BEGIN:STANDARD
TZNAME:EST
DTSTART:20241103T020000
TZOFFSETFROM:-0400
TZOFFSETTO:-0500
RDATE:20251102T020000
END:STANDARD
BEGIN:DAYLIGHT
TZNAME:EDT
DTSTART:20240310T020000
TZOFFSETFROM:-0500
TZOFFSETTO:-0400
RDATE:20250309T020000
RDATE:20260308T020000
END:DAYLIGHT
END:VTIMEZONE
BEGIN:VEVENT
UID:801cb957-bd33-4462-8563-5a73db2e4077
DTSTAMP:20260420T010850Z
DESCRIPTION:ACEEE’s Hot Air and Hot Water Forums are the nation’s premier p
 olicy and technical conferences devoted to improving efficiency and decarb
 onizing space and water heating. The Forums bring together seasoned expert
 s and new voices each year to discuss strategies for transforming the two 
 biggest uses of energy in buildings.\n\nJoin ACEEE at the 2025 Forums to e
 xplore ways to efficiently produce\, distribute\, and use hot water and de
 carbonizing space heating in buildings of all kinds through heat pumps. Al
 so explore how these two industries can reduce greenhouse gas emissions an
 d energy bills\, improve grid resilience\, and center equity.
DTSTART;TZID=America/New_York:20250306T090000
DTEND;TZID=America/New_York:20250306T170000
LOCATION:
SUMMARY:2025 Hot Water & Hot Air Forums
END:VEVENT
END:VCALENDAR
