BEGIN:VCALENDAR
VERSION:2.0
PRODID:-//3qinnovation.org//NONSGML kigkonsult.se iCalcreator 2.30.10//
CALSCALE:GREGORIAN
METHOD:PUBLISH
UID:3528e8c5-617a-40dc-b584-ee7f58a47f8c
X-WR-CALDESC:Kids are the experts in this program focusing on the design of
  parks and playgrounds. The class will visit parks and playgrounds to asse
 ss their design features by playing (of course!) and conducting on-site an
 alysis through surveys\, drawings\, and user interviews. Students will exp
 lore and design different types of play spaces - culminating in a model of
  their own ideal park or playground.\n\n*This program is during NYC Public
  School Spring Break* and need-based scholarships are available.
X-WR-RELCALID:34e414717bee45f6307e23d349979bb5
X-WR-TIMEZONE:America/New_York
BEGIN:VTIMEZONE
TZID:America/New_York
BEGIN:STANDARD
TZNAME:EST
DTSTART:20241103T020000
TZOFFSETFROM:-0400
TZOFFSETTO:-0500
RDATE:20251102T020000
END:STANDARD
BEGIN:DAYLIGHT
TZNAME:EDT
DTSTART:20240310T020000
TZOFFSETFROM:-0500
TZOFFSETTO:-0400
RDATE:20250309T020000
RDATE:20260308T020000
END:DAYLIGHT
END:VTIMEZONE
BEGIN:VEVENT
UID:1f1a638a-3104-450d-a7bf-aedf5970bd3e
DTSTAMP:20260420T030355Z
DESCRIPTION:Kids are the experts in this program focusing on the design of 
 parks and playgrounds. The class will visit parks and playgrounds to asses
 s their design features by playing (of course!) and conducting on-site ana
 lysis through surveys\, drawings\, and user interviews. Students will expl
 ore and design different types of play spaces - culminating in a model of 
 their own ideal park or playground.\n\n*This program is during NYC Public 
 School Spring Break* and need-based scholarships are available.
DTSTART;TZID=America/New_York:20250220T090000
DTEND;TZID=America/New_York:20250220T160000
LOCATION:
SUMMARY:Parks and Playground (Grades 3-5)
END:VEVENT
END:VCALENDAR
