BEGIN:VCALENDAR
VERSION:2.0
PRODID:-//3qinnovation.org//NONSGML kigkonsult.se iCalcreator 2.30.10//
CALSCALE:GREGORIAN
METHOD:PUBLISH
UID:c1d544c5-97ed-45f8-9304-c8121a8979c4
X-WR-CALDESC:Join UGC for the next episode of Urban Green Live\, a series f
 eaturing industry experts who share insights and then answer YOUR question
 s about a low carbon future.  \n\nOn February 19\,  Dr. Joe Allen\, Direct
 or of Harvard’s Healthy Buildings Program and Associate Professor at the H
 arvard T.H. Chan of Public Health\, will review what we’ve learned since t
 he Covid pandemic first emerged five years ago - and discuss the latest tr
 ends for designing healthy buildings. \n\nJoin us to learn about design tr
 ends for healthier buildings that include recent improvements in Indoor Ai
 r Quality (IAQ) sensor technologies\, new research about IAQ’s cognitive i
 mpacts on creativity\, and healthier building material choices.
X-WR-RELCALID:7ec1807873847d902a6adc3a208af7fd
X-WR-TIMEZONE:America/New_York
BEGIN:VTIMEZONE
TZID:America/New_York
BEGIN:STANDARD
TZNAME:EST
DTSTART:20241103T020000
TZOFFSETFROM:-0400
TZOFFSETTO:-0500
RDATE:20251102T020000
END:STANDARD
BEGIN:DAYLIGHT
TZNAME:EDT
DTSTART:20240310T020000
TZOFFSETFROM:-0500
TZOFFSETTO:-0400
RDATE:20250309T020000
RDATE:20260308T020000
END:DAYLIGHT
END:VTIMEZONE
BEGIN:VEVENT
UID:9809b7bb-d196-4c6c-a54a-ec593cc7ff1c
DTSTAMP:20260420T030104Z
DESCRIPTION:Join UGC for the next episode of Urban Green Live\, a series fe
 aturing industry experts who share insights and then answer YOUR questions
  about a low carbon future.  \n\nOn February 19\,  Dr. Joe Allen\, Directo
 r of Harvard’s Healthy Buildings Program and Associate Professor at the Ha
 rvard T.H. Chan of Public Health\, will review what we’ve learned since th
 e Covid pandemic first emerged five years ago - and discuss the latest tre
 nds for designing healthy buildings. \n\nJoin us to learn about design tre
 nds for healthier buildings that include recent improvements in Indoor Air
  Quality (IAQ) sensor technologies\, new research about IAQ’s cognitive im
 pacts on creativity\, and healthier building material choices.
DTSTART;TZID=America/New_York:20250219T100000
DTEND;TZID=America/New_York:20250219T110000
LOCATION:
SUMMARY:Urban Green Live: 5 years after Covid - Healthy building trends to 
 know
END:VEVENT
END:VCALENDAR
