BEGIN:VCALENDAR
VERSION:2.0
PRODID:-//3qinnovation.org//NONSGML kigkonsult.se iCalcreator 2.30.10//
CALSCALE:GREGORIAN
METHOD:PUBLISH
UID:06458ed2-826f-4ffc-aa0e-b5bb0ac30d7b
X-WR-CALDESC:Beam\, truss\, arch\, suspension\, and moveable bridges suppor
 t weight and span great distances. Students will learn about these differe
 nt bridge types through interactive discussions and activities. Students w
 ill then use 3D design software to create bridges of their own design.  \n
 \nStudents will need to bring their own laptop and charging cord with Wind
 ows 11 or 10 or Mac OS 13+ (Ventura)\, 12+ (Monterey) and 11+ (Big Sur) fo
 r this class. Students can bring their own mouse or CFA will provide a wir
 ed mouse for student use. Students will be sent a link to download the fre
 e SketchUp trial software prior to the first day of class. Students with C
 hromebooks can use the free web-based SketchUp software. Tablets and phone
 s cannot be used for this program. \n\n*This program is during NYC Public 
 School Spring Break* and need-based scholarships are available.
X-WR-RELCALID:d38d0d3bf89eb07afae5cca30ec08107
X-WR-TIMEZONE:America/New_York
BEGIN:VTIMEZONE
TZID:America/New_York
BEGIN:STANDARD
TZNAME:EST
DTSTART:20241103T020000
TZOFFSETFROM:-0400
TZOFFSETTO:-0500
RDATE:20251102T020000
END:STANDARD
BEGIN:DAYLIGHT
TZNAME:EDT
DTSTART:20240310T020000
TZOFFSETFROM:-0500
TZOFFSETTO:-0400
RDATE:20250309T020000
RDATE:20260308T020000
END:DAYLIGHT
END:VTIMEZONE
BEGIN:VEVENT
UID:a8ec1186-1c92-4841-8457-e7848b73994b
DTSTAMP:20260420T030225Z
DESCRIPTION:Beam\, truss\, arch\, suspension\, and moveable bridges support
  weight and span great distances. Students will learn about these differen
 t bridge types through interactive discussions and activities. Students wi
 ll then use 3D design software to create bridges of their own design.  \n
 \nStudents will need to bring their own laptop and charging cord with Wind
 ows 11 or 10 or Mac OS 13+ (Ventura)\, 12+ (Monterey) and 11+ (Big Sur) fo
 r this class. Students can bring their own mouse or CFA will provide a wir
 ed mouse for student use. Students will be sent a link to download the fre
 e SketchUp trial software prior to the first day of class. Students with C
 hromebooks can use the free web-based SketchUp software. Tablets and phone
 s cannot be used for this program. \n\n*This program is during NYC Public 
 School Spring Break* and need-based scholarships are available.
DTSTART;TZID=America/New_York:20250218T090000
DTEND;TZID=America/New_York:20250218T160000
LOCATION:
SUMMARY:Digital Design: Bridges (Grades 6 – 8)
END:VEVENT
END:VCALENDAR
