BEGIN:VCALENDAR
VERSION:2.0
PRODID:-//3qinnovation.org//NONSGML kigkonsult.se iCalcreator 2.30.10//
CALSCALE:GREGORIAN
METHOD:PUBLISH
UID:745f3b3d-2cfb-4656-a6a3-7492b79b5f25
X-WR-CALDESC:The CRE Finance Council recently published a comprehensive Com
 mercial Property Assessed Clean Energy (C-PACE) Primer to serve as a valua
 ble resource for members. The Primer provides an in-depth overview of the 
 key features\, stakeholders\, and market trends associated with C-PACE fin
 ancing\, one of the tools used to drive sustainability and resiliency in t
 he CRE sector. \n\nJoin CREFC's Sustainability Initiative for a webinar sh
 aring a high-level overview of the Primer.
X-WR-RELCALID:2364eed3db7ff7a88e7daf906df86ac1
X-WR-TIMEZONE:America/New_York
BEGIN:VTIMEZONE
TZID:America/New_York
BEGIN:STANDARD
TZNAME:EST
DTSTART:20241103T020000
TZOFFSETFROM:-0400
TZOFFSETTO:-0500
RDATE:20251102T020000
END:STANDARD
BEGIN:DAYLIGHT
TZNAME:EDT
DTSTART:20240310T020000
TZOFFSETFROM:-0500
TZOFFSETTO:-0400
RDATE:20250309T020000
RDATE:20260308T020000
END:DAYLIGHT
END:VTIMEZONE
BEGIN:VEVENT
UID:ee8bc12b-33d6-4b19-acfa-bd47465db0e7
DTSTAMP:20260420T030105Z
DESCRIPTION:The CRE Finance Council recently published a comprehensive Comm
 ercial Property Assessed Clean Energy (C-PACE) Primer to serve as a valuab
 le resource for members. The Primer provides an in-depth overview of the k
 ey features\, stakeholders\, and market trends associated with C-PACE fina
 ncing\, one of the tools used to drive sustainability and resiliency in th
 e CRE sector. \n\nJoin CREFC's Sustainability Initiative for a webinar sha
 ring a high-level overview of the Primer.
DTSTART;TZID=America/New_York:20250213T130000
DTEND;TZID=America/New_York:20250213T140000
LOCATION:
SUMMARY:Diving Into the C-PACE Primer
END:VEVENT
END:VCALENDAR
