BEGIN:VCALENDAR
VERSION:2.0
PRODID:-//3qinnovation.org//NONSGML kigkonsult.se iCalcreator 2.30.10//
CALSCALE:GREGORIAN
METHOD:PUBLISH
UID:1bf521b8-e148-4edc-8b6f-f98e8de398b1
X-WR-CALDESC:The event will be led by Building Energy Exchange (BE-Ex)\, in
  collaboration with the Association for Energy Affordability (AEA) - as pa
 rt of the Better Building New York Coalition (BBNY).  It was organized by 
 NYC Council Majority Leader Amanda Farías.\n \nCome learn from technical e
 xperts and industry professionals about high-performance technologies and 
 best practices to make your residential building more energy efficient\, h
 ealthy\, and safe. Get the latest information about current incentives\, f
 inancing options\, and tax credits to help fund retrofit projects. \n\nThi
 s workshop is intended for owners\, managers\, and operators of residentia
 l buildings\, including coop shareholders and coop/condo board members.
X-WR-RELCALID:717423d41007e1d2d81897228826006d
X-WR-TIMEZONE:America/New_York
BEGIN:VTIMEZONE
TZID:America/New_York
BEGIN:STANDARD
TZNAME:EST
DTSTART:20241103T020000
TZOFFSETFROM:-0400
TZOFFSETTO:-0500
RDATE:20251102T020000
END:STANDARD
BEGIN:DAYLIGHT
TZNAME:EDT
DTSTART:20240310T020000
TZOFFSETFROM:-0500
TZOFFSETTO:-0400
RDATE:20250309T020000
RDATE:20260308T020000
END:DAYLIGHT
END:VTIMEZONE
BEGIN:VEVENT
UID:d883c083-607a-4ed2-b4ee-a8c7f837939d
DTSTAMP:20260420T030140Z
DESCRIPTION:The event will be led by Building Energy Exchange (BE-Ex)\, in 
 collaboration with the Association for Energy Affordability (AEA) - as par
 t of the Better Building New York Coalition (BBNY).  It was organized by N
 YC Council Majority Leader Amanda Farías.\n \nCome learn from technical ex
 perts and industry professionals about high-performance technologies and b
 est practices to make your residential building more energy efficient\, he
 althy\, and safe. Get the latest information about current incentives\, fi
 nancing options\, and tax credits to help fund retrofit projects. \n\nThis
  workshop is intended for owners\, managers\, and operators of residential
  buildings\, including coop shareholders and coop/condo board members.
DTSTART;TZID=America/New_York:20250210T180000
DTEND;TZID=America/New_York:20250210T200000
LOCATION:
SUMMARY:Decarbonizing Your Building: A Workshop to Help You Strategize & El
 ectrify your Building
END:VEVENT
END:VCALENDAR
