BEGIN:VCALENDAR
VERSION:2.0
PRODID:-//3qinnovation.org//NONSGML kigkonsult.se iCalcreator 2.30.10//
CALSCALE:GREGORIAN
METHOD:PUBLISH
UID:8b867e5a-2c41-4426-bf7b-c66f1fd9e5fb
X-WR-CALDESC:Join Women Entrepreneurship New York City (WE NYC) for an insp
 iring event that shines a spotlight on the journey of women entrepreneurs 
 navigating MWBE certification and celebrates the transformative role of me
 ntorship during National Mentorship Month. \n\nThis special event will fea
 ture firsthand accounts from certified business owners who have successful
 ly leveraged mentorship to achieve their goals. Learn actionable insights 
 into the certification process\, discover how to tap into mentorship oppor
 tunities\, and understand the broader impact of a strong support network.
X-WR-RELCALID:9d0a7949a9444718074877881010c666
X-WR-TIMEZONE:America/New_York
BEGIN:VTIMEZONE
TZID:America/New_York
BEGIN:STANDARD
TZNAME:EST
DTSTART:20241103T020000
TZOFFSETFROM:-0400
TZOFFSETTO:-0500
RDATE:20251102T020000
END:STANDARD
BEGIN:DAYLIGHT
TZNAME:EDT
DTSTART:20240310T020000
TZOFFSETFROM:-0500
TZOFFSETTO:-0400
RDATE:20250309T020000
RDATE:20260308T020000
END:DAYLIGHT
END:VTIMEZONE
BEGIN:VEVENT
UID:696f1b9f-2604-4935-afde-6e241c54bf49
DTSTAMP:20260420T045410Z
DESCRIPTION:Join Women Entrepreneurship New York City (WE NYC) for an inspi
 ring event that shines a spotlight on the journey of women entrepreneurs n
 avigating MWBE certification and celebrates the transformative role of men
 torship during National Mentorship Month. \n\nThis special event will feat
 ure firsthand accounts from certified business owners who have successfull
 y leveraged mentorship to achieve their goals. Learn actionable insights i
 nto the certification process\, discover how to tap into mentorship opport
 unities\, and understand the broader impact of a strong support network.
DTSTART;TZID=America/New_York:20250128T173000
DTEND;TZID=America/New_York:20250128T200000
LOCATION:
SUMMARY:WE Connect: Breaking Barriers in Built Environment & Trade
END:VEVENT
END:VCALENDAR
