BEGIN:VCALENDAR
VERSION:2.0
PRODID:-//3qinnovation.org//NONSGML kigkonsult.se iCalcreator 2.30.10//
CALSCALE:GREGORIAN
METHOD:PUBLISH
UID:3799653d-f82d-4fdf-bcf5-254205cfecfa
X-WR-CALDESC:BuildingEnergy NYC is scheduled to take place in October 2025.
   The event is designed by and for practitioners in the fields of high-per
 formance building and design\, energy efficiency\, and renewable energy.  
 Share your vision and help shape the October 2025 event by attending NESEA
 's Open Planning Meeting on January 22nd\, 2025.  \n\nThe planning meeting
  is free and open to all .
X-WR-RELCALID:f4d6b69460f4aaaef9da679889285b03
X-WR-TIMEZONE:America/New_York
BEGIN:VTIMEZONE
TZID:America/New_York
BEGIN:STANDARD
TZNAME:EST
DTSTART:20241103T020000
TZOFFSETFROM:-0400
TZOFFSETTO:-0500
RDATE:20251102T020000
END:STANDARD
BEGIN:DAYLIGHT
TZNAME:EDT
DTSTART:20240310T020000
TZOFFSETFROM:-0500
TZOFFSETTO:-0400
RDATE:20250309T020000
RDATE:20260308T020000
END:DAYLIGHT
END:VTIMEZONE
BEGIN:VEVENT
UID:73eca540-dfd0-4192-b4eb-c51381ac42d3
DTSTAMP:20260420T045122Z
DESCRIPTION:BuildingEnergy NYC is scheduled to take place in October 2025. 
  The event is designed by and for practitioners in the fields of high-perf
 ormance building and design\, energy efficiency\, and renewable energy.  S
 hare your vision and help shape the October 2025 event by attending NESEA'
 s Open Planning Meeting on January 22nd\, 2025.  \n\nThe planning meeting 
 is free and open to all .
DTSTART;TZID=America/New_York:20250122T150000
DTEND;TZID=America/New_York:20250122T163000
LOCATION:
SUMMARY:BuildingEnergy NYC Open Planning Meeting
END:VEVENT
END:VCALENDAR
