BEGIN:VCALENDAR
VERSION:2.0
PRODID:-//3qinnovation.org//NONSGML kigkonsult.se iCalcreator 2.30.10//
CALSCALE:GREGORIAN
METHOD:PUBLISH
UID:e6b188ff-e394-446a-89dc-5843066cf045
X-WR-CALDESC:Join Building Energy Exchange (BE-Ex)\, NYC Housing Authority 
 (NYCHA)\, NY Power Authority (NYPA)\, and NYS Energy Research & Developmen
 t Authority (NYSERDA) for an engaging discussion on NY State’s groundbreak
 ing 'Clean Heat for All' initiative and NYCHA’s window heat pump program.
 \n\nThe building sector accounts for over 70 percent of New York City’s ca
 rbon emissions\, with nearly 40 percent of these emissions resulting from 
 onsite space heating and hot water systems that rely on fossil fuels alone
 . While improving the efficiency of these systems is a crucial first step\
 , a more substantial reduction in emissions will require a shift away from
  oil and gas altogether. This is where innovative technologies like window
  heat pumps come into play. Come and explore whether these retrofits are c
 ost-effective (with minimal tenant disruption)\, and if they aren't\, what
  the available alternative options are.\n\nDiscover how widespread impleme
 ntation of this technology can align with Local Law 154 and the NYS plan t
 o achieve 2M climate-friendly homes by 2030.  Also learn about NYCHA\, NYP
 A\, and NYSERDA’s efforts to support these advancements and help achieve c
 limate mandates at city and state levels.
X-WR-RELCALID:4096d2153fc73e0371974be863c0edb7
X-WR-TIMEZONE:America/New_York
BEGIN:VTIMEZONE
TZID:America/New_York
BEGIN:STANDARD
TZNAME:EST
DTSTART:20241103T020000
TZOFFSETFROM:-0400
TZOFFSETTO:-0500
RDATE:20251102T020000
END:STANDARD
BEGIN:DAYLIGHT
TZNAME:EDT
DTSTART:20240310T020000
TZOFFSETFROM:-0500
TZOFFSETTO:-0400
RDATE:20250309T020000
RDATE:20260308T020000
END:DAYLIGHT
END:VTIMEZONE
BEGIN:VEVENT
UID:e810f11f-2f7c-48e6-a485-009636f98d33
DTSTAMP:20260420T045029Z
DESCRIPTION:Join Building Energy Exchange (BE-Ex)\, NYC Housing Authority (
 NYCHA)\, NY Power Authority (NYPA)\, and NYS Energy Research & Development
  Authority (NYSERDA) for an engaging discussion on NY State’s groundbreaki
 ng 'Clean Heat for All' initiative and NYCHA’s window heat pump program.\n
 \nThe building sector accounts for over 70 percent of New York City’s carb
 on emissions\, with nearly 40 percent of these emissions resulting from on
 site space heating and hot water systems that rely on fossil fuels alone. 
 While improving the efficiency of these systems is a crucial first step\, 
 a more substantial reduction in emissions will require a shift away from o
 il and gas altogether. This is where innovative technologies like window h
 eat pumps come into play. Come and explore whether these retrofits are cos
 t-effective (with minimal tenant disruption)\, and if they aren't\, what t
 he available alternative options are.\n\nDiscover how widespread implement
 ation of this technology can align with Local Law 154 and the NYS plan to 
 achieve 2M climate-friendly homes by 2030.  Also learn about NYCHA\, NYPA\
 , and NYSERDA’s efforts to support these advancements and help achieve cli
 mate mandates at city and state levels.
DTSTART;TZID=America/New_York:20250116T093000
DTEND;TZID=America/New_York:20250116T110000
LOCATION:
SUMMARY:How & When? Clean Heat & Climate-Friendly Homes for All
END:VEVENT
END:VCALENDAR
