BEGIN:VCALENDAR
VERSION:2.0
PRODID:-//3qinnovation.org//NONSGML kigkonsult.se iCalcreator 2.30.10//
CALSCALE:GREGORIAN
METHOD:PUBLISH
UID:7a24b7e9-6315-40c6-b346-bfbe917c5325
X-WR-CALDESC:This presentation will provide an overview of vertical gardens
 \, briefly covering their history as well as environmental\, sustainabilit
 y\, and psychological benefits. Discussion of the construction process wil
 l include: hydroponic systems\, essential elements (water\, light\, plant 
 selections)\, and maintenance considerations. Relevant building code compl
 iance requirements (structural\, fire safety\, and plumbing) will also be 
 addressed.
X-WR-RELCALID:887a8a8e26361a0ebfd2709f46ee208a
X-WR-TIMEZONE:America/New_York
BEGIN:VTIMEZONE
TZID:America/New_York
BEGIN:STANDARD
TZNAME:EST
DTSTART:20241103T020000
TZOFFSETFROM:-0400
TZOFFSETTO:-0500
RDATE:20251102T020000
END:STANDARD
BEGIN:DAYLIGHT
TZNAME:EDT
DTSTART:20240310T020000
TZOFFSETFROM:-0500
TZOFFSETTO:-0400
RDATE:20250309T020000
RDATE:20260308T020000
END:DAYLIGHT
END:VTIMEZONE
BEGIN:VEVENT
UID:c3b7522c-f5b3-41bc-a048-e2d66d302b95
DTSTAMP:20260420T043216Z
DESCRIPTION:This presentation will provide an overview of vertical gardens\
 , briefly covering their history as well as environmental\, sustainability
 \, and psychological benefits. Discussion of the construction process will
  include: hydroponic systems\, essential elements (water\, light\, plant s
 elections)\, and maintenance considerations. Relevant building code compli
 ance requirements (structural\, fire safety\, and plumbing) will also be a
 ddressed.
DTSTART;TZID=America/New_York:20250114T180000
DTEND;TZID=America/New_York:20250114T200000
LOCATION:
SUMMARY:Vertical Gardens: Benefits and Building Codes
END:VEVENT
END:VCALENDAR
