BEGIN:VCALENDAR
VERSION:2.0
PRODID:-//3qinnovation.org//NONSGML kigkonsult.se iCalcreator 2.30.10//
CALSCALE:GREGORIAN
METHOD:PUBLISH
UID:1594fa89-3a2b-48fd-9503-d97a32ac8a03
X-WR-CALDESC:The CRE Finance Council (CREFC) is the trade association for t
 he commercial real estate finance industry. Member firms include balance s
 heet and securitized lenders\, loan and bond investors\, private equity fi
 rms\, servicers and rating agencies\, among others.\n\nJoin over 2200 regi
 stered CRE finance professionals at the Loews Miami Beach Hotel January 12
 -15\, 2025\, for a member-driven\, content-focused conference. At CREFC's 
 largest event of the year\, attendees can expect to gain unique market ins
 ights via panels led by the top voices in their fields\, enjoy high profil
 e and engaging keynote speakers\, and stay up to date with CREFC’s sector-
 focused Forums and Committees.
X-WR-RELCALID:4950a283ca84b95c953eb8e958621e37
X-WR-TIMEZONE:America/New_York
BEGIN:VTIMEZONE
TZID:America/New_York
BEGIN:STANDARD
TZNAME:EST
DTSTART:20241103T020000
TZOFFSETFROM:-0400
TZOFFSETTO:-0500
RDATE:20251102T020000
END:STANDARD
BEGIN:DAYLIGHT
TZNAME:EDT
DTSTART:20240310T020000
TZOFFSETFROM:-0500
TZOFFSETTO:-0400
RDATE:20250309T020000
RDATE:20260308T020000
END:DAYLIGHT
END:VTIMEZONE
BEGIN:VEVENT
UID:f70b410d-312e-41cf-9260-c0c9719c6a23
DTSTAMP:20260420T045820Z
DESCRIPTION:The CRE Finance Council (CREFC) is the trade association for th
 e commercial real estate finance industry. Member firms include balance sh
 eet and securitized lenders\, loan and bond investors\, private equity fir
 ms\, servicers and rating agencies\, among others.\n\nJoin over 2200 regis
 tered CRE finance professionals at the Loews Miami Beach Hotel January 12-
 15\, 2025\, for a member-driven\, content-focused conference. At CREFC's l
 argest event of the year\, attendees can expect to gain unique market insi
 ghts via panels led by the top voices in their fields\, enjoy high profile
  and engaging keynote speakers\, and stay up to date with CREFC’s sector-f
 ocused Forums and Committees.
DTSTART;TZID=America/New_York:20250114T090000
DTEND;TZID=America/New_York:20250114T170000
LOCATION:
SUMMARY:CRE Finance Council Miami 2025
END:VEVENT
END:VCALENDAR
