BEGIN:VCALENDAR
VERSION:2.0
PRODID:-//3qinnovation.org//NONSGML kigkonsult.se iCalcreator 2.30.10//
CALSCALE:GREGORIAN
METHOD:PUBLISH
UID:3b3fe1cd-f947-4618-827c-114e9266de9d
X-WR-CALDESC:New to USGBC membership? A long-time member in need of a refre
 sher? Join USGBC on Welcome Wednesday each month for a brief presentation 
 on USGBC National membership followed by an opportunity for Q&A.
X-WR-RELCALID:15e4bc9548237869144993b5af5f94c0
X-WR-TIMEZONE:America/New_York
BEGIN:VTIMEZONE
TZID:America/New_York
BEGIN:STANDARD
TZNAME:EST
DTSTART:20241103T020000
TZOFFSETFROM:-0400
TZOFFSETTO:-0500
RDATE:20251102T020000
END:STANDARD
BEGIN:DAYLIGHT
TZNAME:EDT
DTSTART:20240310T020000
TZOFFSETFROM:-0500
TZOFFSETTO:-0400
RDATE:20250309T020000
RDATE:20260308T020000
END:DAYLIGHT
END:VTIMEZONE
BEGIN:VEVENT
UID:a9d555c1-e11a-4739-a2ef-925be08e9020
DTSTAMP:20260420T043221Z
DESCRIPTION:New to USGBC membership? A long-time member in need of a refres
 her? Join USGBC on Welcome Wednesday each month for a brief presentation o
 n USGBC National membership followed by an opportunity for Q&A.
DTSTART;TZID=America/New_York:20250108T120000
DTEND;TZID=America/New_York:20250108T130000
LOCATION:
SUMMARY:Welcome Wednesdays: Intro to USGBC National Membership
END:VEVENT
END:VCALENDAR
