BEGIN:VCALENDAR
VERSION:2.0
PRODID:-//3qinnovation.org//NONSGML kigkonsult.se iCalcreator 2.30.10//
CALSCALE:GREGORIAN
METHOD:PUBLISH
UID:3009ccd8-24f8-47ff-a150-e48f489298fa
X-WR-CALDESC:This workshop introduces students to basic model making tools 
 and techniques used by architecture students and professionals. Cutting sk
 ills using X-Acto blades will be introduced beginning with one-on-one tuto
 rials before students embark on a selection of small projects to hone thei
 r skills. A list of tools and materials will be provided to encourage stud
 ents to continue their practice at home.\n\nAll materials will be provided
 . Lunch will not be provided. All students will be dismissed for a lunch b
 reak from 12–1 pm. Students may bring lunch to eat at the Center if desire
 d.
X-WR-RELCALID:9fe4e530cd0db2ae00ae746835aa9d88
X-WR-TIMEZONE:America/New_York
BEGIN:VTIMEZONE
TZID:America/New_York
BEGIN:STANDARD
TZNAME:EST
DTSTART:20241103T020000
TZOFFSETFROM:-0400
TZOFFSETTO:-0500
RDATE:20251102T020000
END:STANDARD
BEGIN:DAYLIGHT
TZNAME:EDT
DTSTART:20240310T020000
TZOFFSETFROM:-0500
TZOFFSETTO:-0400
RDATE:20250309T020000
RDATE:20260308T020000
END:DAYLIGHT
END:VTIMEZONE
BEGIN:VEVENT
UID:f24cdd43-45c7-473c-a496-6754c7778058
DTSTAMP:20260420T064410Z
DESCRIPTION:This workshop introduces students to basic model making tools a
 nd techniques used by architecture students and professionals. Cutting ski
 lls using X-Acto blades will be introduced beginning with one-on-one tutor
 ials before students embark on a selection of small projects to hone their
  skills. A list of tools and materials will be provided to encourage stude
 nts to continue their practice at home.\n\nAll materials will be provided.
  Lunch will not be provided. All students will be dismissed for a lunch br
 eak from 12–1 pm. Students may bring lunch to eat at the Center if desired
 .
DTSTART;TZID=America/New_York:20241214T100000
DTEND;TZID=America/New_York:20241214T160000
LOCATION:
SUMMARY:Teen Workshop: Architectural Model Making (Grades 9-12)
END:VEVENT
END:VCALENDAR
