BEGIN:VCALENDAR
VERSION:2.0
PRODID:-//3qinnovation.org//NONSGML kigkonsult.se iCalcreator 2.30.10//
CALSCALE:GREGORIAN
METHOD:PUBLISH
UID:8db680d4-7c94-4ef7-9d6a-5c2980822e1e
X-WR-CALDESC:In this Urban Green offering\, learn the first steps required 
 to transition from fossil-fueled heating and cooling systems to heat pumps
 .  Discover why heat pumps are the future of building HVAC and gain the pr
 actical knowledge needed to lead an energy upgrade with confidence.\n\nCon
 tent in this course is geared for building owners\, developers\, architect
 s\, engineers\, contractors\, facility managers\, and energy consultants -
  but all are welcome!
X-WR-RELCALID:627c82774f41855c964a017df8fc74a0
X-WR-TIMEZONE:America/New_York
BEGIN:VTIMEZONE
TZID:America/New_York
BEGIN:STANDARD
TZNAME:EST
DTSTART:20241103T020000
TZOFFSETFROM:-0400
TZOFFSETTO:-0500
RDATE:20251102T020000
END:STANDARD
BEGIN:DAYLIGHT
TZNAME:EDT
DTSTART:20240310T020000
TZOFFSETFROM:-0500
TZOFFSETTO:-0400
RDATE:20250309T020000
RDATE:20260308T020000
END:DAYLIGHT
END:VTIMEZONE
BEGIN:VEVENT
UID:66b69320-0734-4647-a674-58a8a73c1713
DTSTAMP:20260420T063151Z
DESCRIPTION:In this Urban Green offering\, learn the first steps required t
 o transition from fossil-fueled heating and cooling systems to heat pumps.
   Discover why heat pumps are the future of building HVAC and gain the pra
 ctical knowledge needed to lead an energy upgrade with confidence.\n\nCont
 ent in this course is geared for building owners\, developers\, architects
 \, engineers\, contractors\, facility managers\, and energy consultants - 
 but all are welcome!
DTSTART;TZID=America/New_York:20241211T150000
DTEND;TZID=America/New_York:20241211T170000
LOCATION:
SUMMARY:Match Made in HVAC: Choosing the Right Heat Pump for Your Building
END:VEVENT
END:VCALENDAR
