BEGIN:VCALENDAR
VERSION:2.0
PRODID:-//3qinnovation.org//NONSGML kigkonsult.se iCalcreator 2.30.10//
CALSCALE:GREGORIAN
METHOD:PUBLISH
UID:43343098-4e0f-4817-ae00-eb624c26599b
X-WR-CALDESC:The process of delivering public works in New York City impact
 s how New Yorkers and visitors experience the city\, how well communities 
 are served\, and how readily architects and other design professionals can
  participate.  \n\nAs part of the NYC Capital Process Reform Task Force\, 
 AIA NY partnered with industry experts and agency leaders to find efficien
 cies in the capital design and delivery process\; recommendations were pub
 lished in 2022. This program explores how NYC government is partnering wit
 h the industry to modernize the capital delivery process and forefront qua
 lity design and innovation in delivering public projects. \n\nDiscussion t
 opics will include: legacy challenges that have left design professionals 
 hesitant to pursue public projects\, remedies made by the city to address 
 feedback from the design community\, and a look ahead to the future of del
 ivery.
X-WR-RELCALID:4c1c4e14d709a6a0e4c571cda3e7f37b
X-WR-TIMEZONE:America/New_York
BEGIN:VTIMEZONE
TZID:America/New_York
BEGIN:STANDARD
TZNAME:EST
DTSTART:20241103T020000
TZOFFSETFROM:-0400
TZOFFSETTO:-0500
RDATE:20251102T020000
END:STANDARD
BEGIN:DAYLIGHT
TZNAME:EDT
DTSTART:20240310T020000
TZOFFSETFROM:-0500
TZOFFSETTO:-0400
RDATE:20250309T020000
RDATE:20260308T020000
END:DAYLIGHT
END:VTIMEZONE
BEGIN:VEVENT
UID:3022bd0f-50b2-4d1a-bf82-19c25f5add61
DTSTAMP:20260420T063944Z
DESCRIPTION:The process of delivering public works in New York City impacts
  how New Yorkers and visitors experience the city\, how well communities a
 re served\, and how readily architects and other design professionals can 
 participate.  \n\nAs part of the NYC Capital Process Reform Task Force\, A
 IA NY partnered with industry experts and agency leaders to find efficienc
 ies in the capital design and delivery process\; recommendations were publ
 ished in 2022. This program explores how NYC government is partnering with
  the industry to modernize the capital delivery process and forefront qual
 ity design and innovation in delivering public projects. \n\nDiscussion to
 pics will include: legacy challenges that have left design professionals h
 esitant to pursue public projects\, remedies made by the city to address f
 eedback from the design community\, and a look ahead to the future of deli
 very.
DTSTART;TZID=America/New_York:20241211T090000
DTEND;TZID=America/New_York:20241211T120000
LOCATION:
SUMMARY:Build Better NYC: How Capital Process Reform Improves Public Infras
 tructure
END:VEVENT
END:VCALENDAR
