BEGIN:VCALENDAR
VERSION:2.0
PRODID:-//3qinnovation.org//NONSGML kigkonsult.se iCalcreator 2.30.10//
CALSCALE:GREGORIAN
METHOD:PUBLISH
UID:1f7ac6af-7d48-4f6c-8208-6abc83a8a956
X-WR-CALDESC:Join the Center for Architecture for a celebration of light. I
 n this program\, families will explore the role of light in architecture a
 nd learn how global communities brighten up the dark night. Families will 
 then design a lantern to take home and illuminate a space of their own.\n
 \nFamily Programs are designed for children ages 5-13 years old\, accompan
 ied by an adult.
X-WR-RELCALID:819a7377ffcfd4a0f518c2fe68097f96
X-WR-TIMEZONE:America/New_York
BEGIN:VTIMEZONE
TZID:America/New_York
BEGIN:STANDARD
TZNAME:EST
DTSTART:20241103T020000
TZOFFSETFROM:-0400
TZOFFSETTO:-0500
RDATE:20251102T020000
END:STANDARD
BEGIN:DAYLIGHT
TZNAME:EDT
DTSTART:20240310T020000
TZOFFSETFROM:-0500
TZOFFSETTO:-0400
RDATE:20250309T020000
RDATE:20260308T020000
END:DAYLIGHT
END:VTIMEZONE
BEGIN:VEVENT
UID:67a6d439-e316-4977-bb61-8847048b8765
DTSTAMP:20260420T065155Z
DESCRIPTION:Join the Center for Architecture for a celebration of light. In
  this program\, families will explore the role of light in architecture an
 d learn how global communities brighten up the dark night. Families will t
 hen design a lantern to take home and illuminate a space of their own.\n\n
 Family Programs are designed for children ages 5-13 years old\, accompanie
 d by an adult.
DTSTART;TZID=America/New_York:20241207T110000
DTEND;TZID=America/New_York:20241207T130000
LOCATION:
SUMMARY:Family Program: Architectural Lanterns (Morning Session)
END:VEVENT
END:VCALENDAR
