BEGIN:VCALENDAR
VERSION:2.0
PRODID:-//3qinnovation.org//NONSGML kigkonsult.se iCalcreator 2.30.10//
CALSCALE:GREGORIAN
METHOD:PUBLISH
UID:2e89c891-f96d-46d7-8267-d77c74d3b229
X-WR-CALDESC:Join NESEA for the final Pro Tour of 2024: a Phius passive hou
 se-certified\, 185\,000 square-foot building\, providing 160 units of much
 -needed affordable housing to the neighborhood of Brownsville\, Brooklyn. 
  Event hosts\, Bright Power\, are excited to share this project with the N
 ESEA community\, as they hope it will serve as a replicable example of how
  to approach housing disparities and promote sustainability in Central Bro
 oklyn.  \n\nThis event will begin with an opening workshop where the proje
 ct team will discuss the history\, goals\, design\, construction\, and str
 ategies behind this project. Attendees will then break into small groups t
 o hear more from the interdisciplinary team of experts who made the buildi
 ng possible. After the tour\, there will be a reception and Q&A session.
X-WR-RELCALID:1a0e4781cd3c81d1a4ea10f4ec93d724
X-WR-TIMEZONE:America/New_York
BEGIN:VTIMEZONE
TZID:America/New_York
BEGIN:STANDARD
TZNAME:EST
DTSTART:20241103T020000
TZOFFSETFROM:-0400
TZOFFSETTO:-0500
RDATE:20251102T020000
END:STANDARD
BEGIN:DAYLIGHT
TZNAME:EDT
DTSTART:20240310T020000
TZOFFSETFROM:-0500
TZOFFSETTO:-0400
RDATE:20250309T020000
RDATE:20260308T020000
END:DAYLIGHT
END:VTIMEZONE
BEGIN:VEVENT
UID:893f5c33-1648-4d67-8e65-b2e2fbbb4b93
DTSTAMP:20260420T063756Z
DESCRIPTION:Join NESEA for the final Pro Tour of 2024: a Phius passive hous
 e-certified\, 185\,000 square-foot building\, providing 160 units of much-
 needed affordable housing to the neighborhood of Brownsville\, Brooklyn.  
 Event hosts\, Bright Power\, are excited to share this project with the NE
 SEA community\, as they hope it will serve as a replicable example of how 
 to approach housing disparities and promote sustainability in Central Broo
 klyn.  \n\nThis event will begin with an opening workshop where the projec
 t team will discuss the history\, goals\, design\, construction\, and stra
 tegies behind this project. Attendees will then break into small groups to
  hear more from the interdisciplinary team of experts who made the buildin
 g possible. After the tour\, there will be a reception and Q&A session.
DTSTART;TZID=America/New_York:20241206T130000
DTEND;TZID=America/New_York:20241206T170000
LOCATION:
SUMMARY:Pro Tour: Affordable Passive House Midrise in Brooklyn\, NY
END:VEVENT
END:VCALENDAR
