BEGIN:VCALENDAR
VERSION:2.0
PRODID:-//3qinnovation.org//NONSGML kigkonsult.se iCalcreator 2.30.10//
CALSCALE:GREGORIAN
METHOD:PUBLISH
UID:a1c71f54-132b-424e-ace7-af3884d0ecd2
X-WR-CALDESC:Urban arterials in New York City are long and wide roads that 
 carry large amounts of vehicular traffic through neighborhoods. Some preda
 te colonial settlement\; many also exemplify historically racist city plan
 ning efforts that divided communities and displaced families. Despite rece
 nt efforts to install bus and bike lanes\, lower speed limits\, and add gr
 een infrastructure\, dozens of these major roadway corridors across the fi
 ve boroughs remain unsafe\, unhealthy\, inefficient\, and unsustainable. V
 ehicles speed\, pollute\, and jostle in a street space where on average 80
 % of the public right-of-way is reserved for private vehicles\, even in ar
 eas where a majority of nearby residents do not own cars. Today\, the amou
 nt of paved roadbed belonging to New York City’s arterials is equivalent t
 o more than 10 Central Parks. More than 60% of all traffic fatalities happ
 en along them.\n\nDesigning Climate Corridors will discuss opportunities t
 o rethink this immense publicly-owned land between neighborhoods for clima
 te action\, community cohesion\, and public health.
X-WR-RELCALID:30f13eb7ea1552a11637b11a8e7b0619
X-WR-TIMEZONE:America/New_York
BEGIN:VTIMEZONE
TZID:America/New_York
BEGIN:STANDARD
TZNAME:EST
DTSTART:20241103T020000
TZOFFSETFROM:-0400
TZOFFSETTO:-0500
RDATE:20251102T020000
END:STANDARD
BEGIN:DAYLIGHT
TZNAME:EDT
DTSTART:20240310T020000
TZOFFSETFROM:-0500
TZOFFSETTO:-0400
RDATE:20250309T020000
RDATE:20260308T020000
END:DAYLIGHT
END:VTIMEZONE
BEGIN:VEVENT
UID:46f2a637-5d11-4c8d-9d50-0a9aedf366cc
DTSTAMP:20260420T065445Z
DESCRIPTION:Urban arterials in New York City are long and wide roads that c
 arry large amounts of vehicular traffic through neighborhoods. Some predat
 e colonial settlement\; many also exemplify historically racist city plann
 ing efforts that divided communities and displaced families. Despite recen
 t efforts to install bus and bike lanes\, lower speed limits\, and add gre
 en infrastructure\, dozens of these major roadway corridors across the fiv
 e boroughs remain unsafe\, unhealthy\, inefficient\, and unsustainable. Ve
 hicles speed\, pollute\, and jostle in a street space where on average 80%
  of the public right-of-way is reserved for private vehicles\, even in are
 as where a majority of nearby residents do not own cars. Today\, the amoun
 t of paved roadbed belonging to New York City’s arterials is equivalent to
  more than 10 Central Parks. More than 60% of all traffic fatalities happe
 n along them.\n\nDesigning Climate Corridors will discuss opportunities to
  rethink this immense publicly-owned land between neighborhoods for climat
 e action\, community cohesion\, and public health.
DTSTART;TZID=America/New_York:20241206T180000
DTEND;TZID=America/New_York:20241206T200000
LOCATION:
SUMMARY:Designing Climate Corridors: Re-envisioning Urban Arterials in New 
 York City
END:VEVENT
END:VCALENDAR
