BEGIN:VCALENDAR
VERSION:2.0
PRODID:-//3qinnovation.org//NONSGML kigkonsult.se iCalcreator 2.30.10//
CALSCALE:GREGORIAN
METHOD:PUBLISH
UID:eacf1575-d80a-470e-b73a-ae8c0180fabc
X-WR-CALDESC:Urban Green Council is offering a new course - GPRO: Getting S
 tarted with Green Building - so you can learn about career pathways in the
  field and earn your GPRO Certificate\, too! Whether you are just beginnin
 g your career or looking to pivot to a new career in green building\, you’
 ll walk away with a new understanding of the field and how to assess which
  pathway may be right for you.\n\nThis training is ideal for anyone enteri
 ng the workforce and/or interested in exploring careers in the green build
 ing industry.\n
X-WR-RELCALID:1758ee7ec71f843f8311059b422a2fc6
X-WR-TIMEZONE:America/New_York
BEGIN:VTIMEZONE
TZID:America/New_York
BEGIN:STANDARD
TZNAME:EST
DTSTART:20241103T020000
TZOFFSETFROM:-0400
TZOFFSETTO:-0500
RDATE:20251102T020000
END:STANDARD
BEGIN:DAYLIGHT
TZNAME:EDT
DTSTART:20240310T020000
TZOFFSETFROM:-0500
TZOFFSETTO:-0400
RDATE:20250309T020000
RDATE:20260308T020000
END:DAYLIGHT
END:VTIMEZONE
BEGIN:VEVENT
UID:05678935-2f8d-4d61-9051-ae1fa7fa1572
DTSTAMP:20260422T100411Z
DESCRIPTION:Urban Green Council is offering a new course - GPRO: Getting St
 arted with Green Building - so you can learn about career pathways in the 
 field and earn your GPRO Certificate\, too! Whether you are just beginning
  your career or looking to pivot to a new career in green building\, you’l
 l walk away with a new understanding of the field and how to assess which 
 pathway may be right for you.\n\nThis training is ideal for anyone enterin
 g the workforce and/or interested in exploring careers in the green buildi
 ng industry.\n
DTSTART;TZID=America/New_York:20241126T100000
DTEND;TZID=America/New_York:20241126T130000
LOCATION:
SUMMARY:GPRO: Getting Started with Green Building
END:VEVENT
END:VCALENDAR
