BEGIN:VCALENDAR
VERSION:2.0
PRODID:-//3qinnovation.org//NONSGML kigkonsult.se iCalcreator 2.30.10//
CALSCALE:GREGORIAN
METHOD:PUBLISH
UID:8440111c-5133-4274-86ba-c17311401adc
X-WR-CALDESC:The 2024 Urban Tech Summit will consist of two days of keynote
  speakers\, panel discussions\, start-up pitches\, and interactive worksho
 ps exploring the theme ‘Intelligence for Climate Adaptation’. \n\nDay One 
 - Hazards\, Impacts\, and Technology Solutions - will set the stage by out
 lining the hazards cities must contend with and the technology solutions t
 hat can address them.  Day Two - Building Resilient Urban Systems - will b
 uild on these conversations by delving into the role of AI in supporting e
 fforts to create more resilient urban systems.
X-WR-RELCALID:6dab32a598466c905e0730ec5b491d54
X-WR-TIMEZONE:America/New_York
BEGIN:VTIMEZONE
TZID:America/New_York
BEGIN:STANDARD
TZNAME:EST
DTSTART:20241103T020000
TZOFFSETFROM:-0400
TZOFFSETTO:-0500
RDATE:20251102T020000
END:STANDARD
BEGIN:DAYLIGHT
TZNAME:EDT
DTSTART:20240310T020000
TZOFFSETFROM:-0500
TZOFFSETTO:-0400
RDATE:20250309T020000
RDATE:20260308T020000
END:DAYLIGHT
END:VTIMEZONE
BEGIN:VEVENT
UID:7b30dbf1-6e91-4899-9fbf-8a6980c8b0c8
DTSTAMP:20260422T101207Z
DESCRIPTION:The 2024 Urban Tech Summit will consist of two days of keynote 
 speakers\, panel discussions\, start-up pitches\, and interactive workshop
 s exploring the theme ‘Intelligence for Climate Adaptation’. \n\nDay One -
  Hazards\, Impacts\, and Technology Solutions - will set the stage by outl
 ining the hazards cities must contend with and the technology solutions th
 at can address them.  Day Two - Building Resilient Urban Systems - will bu
 ild on these conversations by delving into the role of AI in supporting ef
 forts to create more resilient urban systems.
DTSTART;TZID=America/New_York:20241120T090000
DTEND;TZID=America/New_York:20241120T170000
LOCATION:
SUMMARY:Urban Tech Summit 2024
END:VEVENT
END:VCALENDAR
