BEGIN:VCALENDAR
VERSION:2.0
PRODID:-//3qinnovation.org//NONSGML kigkonsult.se iCalcreator 2.30.10//
CALSCALE:GREGORIAN
METHOD:PUBLISH
UID:eeb06ce9-8e1e-4488-8a24-d3139403fab9
X-WR-CALDESC:The 2024 Urban Tech Summit will consist of two days of keynote
  speakers\, panel discussions\, start-up pitches\, and interactive worksho
 ps exploring the theme ‘Intelligence for Climate Adaptation’. \n\nDay One 
 - Hazards\, Impacts\, and Technology Solutions - will set the stage by out
 lining the hazards cities must contend with and the technology solutions t
 hat can address them.  Day Two - Building Resilient Urban Systems - will b
 uild on these conversations by delving into the role of AI in supporting e
 fforts to create more resilient urban systems.
X-WR-RELCALID:059a4be5316859d4d09ed94984039f9d
X-WR-TIMEZONE:America/New_York
BEGIN:VTIMEZONE
TZID:America/New_York
BEGIN:STANDARD
TZNAME:EST
DTSTART:20241103T020000
TZOFFSETFROM:-0400
TZOFFSETTO:-0500
RDATE:20251102T020000
END:STANDARD
BEGIN:DAYLIGHT
TZNAME:EDT
DTSTART:20240310T020000
TZOFFSETFROM:-0500
TZOFFSETTO:-0400
RDATE:20250309T020000
RDATE:20260308T020000
END:DAYLIGHT
END:VTIMEZONE
BEGIN:VEVENT
UID:31b9a343-685a-4856-9742-9334fad5ea23
DTSTAMP:20260422T100448Z
DESCRIPTION:The 2024 Urban Tech Summit will consist of two days of keynote 
 speakers\, panel discussions\, start-up pitches\, and interactive workshop
 s exploring the theme ‘Intelligence for Climate Adaptation’. \n\nDay One -
  Hazards\, Impacts\, and Technology Solutions - will set the stage by outl
 ining the hazards cities must contend with and the technology solutions th
 at can address them.  Day Two - Building Resilient Urban Systems - will bu
 ild on these conversations by delving into the role of AI in supporting ef
 forts to create more resilient urban systems.
DTSTART;TZID=America/New_York:20241119T090000
DTEND;TZID=America/New_York:20241119T170000
LOCATION:
SUMMARY:Urban Tech Summit 2024
END:VEVENT
END:VCALENDAR
