BEGIN:VCALENDAR
VERSION:2.0
PRODID:-//3qinnovation.org//NONSGML kigkonsult.se iCalcreator 2.30.10//
CALSCALE:GREGORIAN
METHOD:PUBLISH
UID:9795bcc9-6ce3-4a44-a988-e48d1c00f4d2
X-WR-CALDESC:The Greenbuild International Conference and Expo is the larges
 t annual event for green building professionals worldwide to learn and sou
 rce cutting-edge solutions to improve resilience\, sustainability and qual
 ity of life in our buildings\, cities and communities. \n\nGreenbuild 2024
  is taking place at the Pennsylvania Convention Center in Philadelphia.
X-WR-RELCALID:f9a2995fcf7f24b6878757b0c7ea2ae5
X-WR-TIMEZONE:America/New_York
BEGIN:VTIMEZONE
TZID:America/New_York
BEGIN:STANDARD
TZNAME:EST
DTSTART:20241103T020000
TZOFFSETFROM:-0400
TZOFFSETTO:-0500
RDATE:20251102T020000
END:STANDARD
BEGIN:DAYLIGHT
TZNAME:EDT
DTSTART:20240310T020000
TZOFFSETFROM:-0500
TZOFFSETTO:-0400
RDATE:20250309T020000
RDATE:20260308T020000
END:DAYLIGHT
END:VTIMEZONE
BEGIN:VEVENT
UID:60010de6-cdcf-4083-a3e2-017994817e48
DTSTAMP:20260422T100741Z
DESCRIPTION:The Greenbuild International Conference and Expo is the largest
  annual event for green building professionals worldwide to learn and sour
 ce cutting-edge solutions to improve resilience\, sustainability and quali
 ty of life in our buildings\, cities and communities. \n\nGreenbuild 2024 
 is taking place at the Pennsylvania Convention Center in Philadelphia.
DTSTART;TZID=America/New_York:20241114T080000
DTEND;TZID=America/New_York:20241114T170000
LOCATION:
SUMMARY:Greenbuild International Conf & Expo 2024
END:VEVENT
END:VCALENDAR
