BEGIN:VCALENDAR
VERSION:2.0
PRODID:-//3qinnovation.org//NONSGML kigkonsult.se iCalcreator 2.30.10//
CALSCALE:GREGORIAN
METHOD:PUBLISH
UID:0c1fcab7-b114-48c1-9169-f6c7dd54bce5
X-WR-CALDESC:Part of NESEA's BuildingEnergy NYC Wednesday Webinars\, this s
 ession will explore how to revitalize and optimize ventilation systems in 
 existing multi-family buildings in New York to bring older\, inefficient\,
  and poorly performing ventilation systems into compliance with current st
 andards for energy and indoor air quality. Session will include an overvie
 w of available financing and energy efficiency incentives to support these
  projects.
X-WR-RELCALID:7cbf92a4a495b84bf55114436fcf8ced
X-WR-TIMEZONE:America/New_York
BEGIN:VTIMEZONE
TZID:America/New_York
BEGIN:STANDARD
TZNAME:EST
DTSTART:20241103T020000
TZOFFSETFROM:-0400
TZOFFSETTO:-0500
RDATE:20251102T020000
END:STANDARD
BEGIN:DAYLIGHT
TZNAME:EDT
DTSTART:20240310T020000
TZOFFSETFROM:-0500
TZOFFSETTO:-0400
RDATE:20250309T020000
RDATE:20260308T020000
END:DAYLIGHT
END:VTIMEZONE
BEGIN:VEVENT
UID:ab8510c7-1e7c-4fee-9bbd-fb5b3feb9909
DTSTAMP:20260422T100007Z
DESCRIPTION:Part of NESEA's BuildingEnergy NYC Wednesday Webinars\, this se
 ssion will explore how to revitalize and optimize ventilation systems in e
 xisting multi-family buildings in New York to bring older\, inefficient\, 
 and poorly performing ventilation systems into compliance with current sta
 ndards for energy and indoor air quality. Session will include an overview
  of available financing and energy efficiency incentives to support these 
 projects.
DTSTART;TZID=America/New_York:20241113T130000
DTEND;TZID=America/New_York:20241113T140000
LOCATION:
SUMMARY:Optimizing Ventilation for Decarbonization
END:VEVENT
END:VCALENDAR
