BEGIN:VCALENDAR
VERSION:2.0
PRODID:-//3qinnovation.org//NONSGML kigkonsult.se iCalcreator 2.30.10//
CALSCALE:GREGORIAN
METHOD:PUBLISH
UID:365c63fe-283d-40c6-9d63-8877ff7ad854
X-WR-CALDESC:The Greenbuild International Conference and Expo is the larges
 t annual event for green building professionals worldwide to learn and sou
 rce cutting-edge solutions to improve resilience\, sustainability and qual
 ity of life in our buildings\, cities and communities. \n\nGreenbuild 2024
  is taking place at the Pennsylvania Convention Center in Philadelphia.
X-WR-RELCALID:fe89d6a2c4f1ff73e10f38104ca7455c
X-WR-TIMEZONE:America/New_York
BEGIN:VTIMEZONE
TZID:America/New_York
BEGIN:STANDARD
TZNAME:EST
DTSTART:20241103T020000
TZOFFSETFROM:-0400
TZOFFSETTO:-0500
RDATE:20251102T020000
END:STANDARD
BEGIN:DAYLIGHT
TZNAME:EDT
DTSTART:20240310T020000
TZOFFSETFROM:-0500
TZOFFSETTO:-0400
RDATE:20250309T020000
RDATE:20260308T020000
END:DAYLIGHT
END:VTIMEZONE
BEGIN:VEVENT
UID:7f31424a-4f44-40ac-aa7f-6d228266f8ec
DTSTAMP:20260422T095854Z
DESCRIPTION:The Greenbuild International Conference and Expo is the largest
  annual event for green building professionals worldwide to learn and sour
 ce cutting-edge solutions to improve resilience\, sustainability and quali
 ty of life in our buildings\, cities and communities. \n\nGreenbuild 2024 
 is taking place at the Pennsylvania Convention Center in Philadelphia.
DTSTART;TZID=America/New_York:20241112T080000
DTEND;TZID=America/New_York:20241112T170000
LOCATION:
SUMMARY:Greenbuild International Conf & Expo 2024
END:VEVENT
END:VCALENDAR
