BEGIN:VCALENDAR
VERSION:2.0
PRODID:-//3qinnovation.org//NONSGML kigkonsult.se iCalcreator 2.30.10//
CALSCALE:GREGORIAN
METHOD:PUBLISH
UID:45c04ff7-a488-4ffe-b82b-ade052f37e97
X-WR-CALDESC:New to USGBC membership? A long-time member in need of a refre
 sher? Join USGBC on Welcome Wednesday each month for a brief presentation 
 on USGBC National membership followed by an opportunity for Q&A.
X-WR-RELCALID:6becf32c5742b277567d3e04f018bfa0
X-WR-TIMEZONE:America/New_York
BEGIN:VTIMEZONE
TZID:America/New_York
BEGIN:STANDARD
TZNAME:EST
DTSTART:20241103T020000
TZOFFSETFROM:-0400
TZOFFSETTO:-0500
RDATE:20251102T020000
END:STANDARD
BEGIN:DAYLIGHT
TZNAME:EDT
DTSTART:20240310T020000
TZOFFSETFROM:-0500
TZOFFSETTO:-0400
RDATE:20250309T020000
RDATE:20260308T020000
END:DAYLIGHT
END:VTIMEZONE
BEGIN:VEVENT
UID:8f821739-b011-4d63-82c0-aef9d311b21f
DTSTAMP:20260422T101050Z
DESCRIPTION:New to USGBC membership? A long-time member in need of a refres
 her? Join USGBC on Welcome Wednesday each month for a brief presentation o
 n USGBC National membership followed by an opportunity for Q&A.
DTSTART;TZID=America/New_York:20241106T120000
DTEND;TZID=America/New_York:20241106T130000
LOCATION:
SUMMARY:Welcome Wednesdays: Intro to USGBC National Membership
END:VEVENT
END:VCALENDAR
