BEGIN:VCALENDAR
VERSION:2.0
PRODID:-//3qinnovation.org//NONSGML kigkonsult.se iCalcreator 2.30.10//
CALSCALE:GREGORIAN
METHOD:PUBLISH
UID:804e3117-c696-4c11-872b-ac8485ef13e5
X-WR-CALDESC:Start your Halloween festivities at the Center for Architectur
 e’s sixth annual Pumpkitecture! competition\, organized in collaboration w
 ith the 14th annual fall festival\, Archtober 2024: Tracing the Future. NY
 C-based firms will go gourd to gourd to once again compete for the Pritzke
 rpumpkin. \n\nCome witness architects live-carve extraordinary structures 
 and vote for the People’s Pumpkin. The carving will commence at 6:15 and r
 un through 7:30. The competing architecture and design firms will briefly 
 defend their designs\, after which jurors will deliberate and pick the win
 ning pumpkin. Enjoy spooky snacks and libations while you watch the compet
 ition!
X-WR-RELCALID:c0747b8b4cbdf1ad6e61aacc976f33dc
X-WR-TIMEZONE:America/New_York
BEGIN:VTIMEZONE
TZID:America/New_York
BEGIN:STANDARD
TZNAME:EST
DTSTART:20231105T020000
TZOFFSETFROM:-0400
TZOFFSETTO:-0500
RDATE:20241103T020000
RDATE:20251102T020000
END:STANDARD
BEGIN:DAYLIGHT
TZNAME:EDT
DTSTART:20240310T020000
TZOFFSETFROM:-0500
TZOFFSETTO:-0400
RDATE:20250309T020000
RDATE:20260308T020000
END:DAYLIGHT
END:VTIMEZONE
BEGIN:VEVENT
UID:4266d28e-8d33-4471-b6de-a1a57c8bfd6c
DTSTAMP:20260422T115355Z
DESCRIPTION:Start your Halloween festivities at the Center for Architecture
 ’s sixth annual Pumpkitecture! competition\, organized in collaboration wi
 th the 14th annual fall festival\, Archtober 2024: Tracing the Future. NYC
 -based firms will go gourd to gourd to once again compete for the Pritzker
 pumpkin. \n\nCome witness architects live-carve extraordinary structures a
 nd vote for the People’s Pumpkin. The carving will commence at 6:15 and ru
 n through 7:30. The competing architecture and design firms will briefly d
 efend their designs\, after which jurors will deliberate and pick the winn
 ing pumpkin. Enjoy spooky snacks and libations while you watch the competi
 tion!
DTSTART;TZID=America/New_York:20241030T180000
DTEND;TZID=America/New_York:20241030T203000
LOCATION:
SUMMARY:Pumpkitecture! Architectural Pumpkin Carving Competition
END:VEVENT
END:VCALENDAR
