BEGIN:VCALENDAR
VERSION:2.0
PRODID:-//3qinnovation.org//NONSGML kigkonsult.se iCalcreator 2.30.10//
CALSCALE:GREGORIAN
METHOD:PUBLISH
UID:d08be235-ed4b-4171-b884-b4387ac9a180
X-WR-CALDESC:CPC Climate Capital\, a subsidiary of the Community Preservati
 on Corporation\, is part of Climate United\, a national coalition of three
  nonprofits that received $6.97 billion from the Greenhouse Gas Reduction 
 Fund to finance carbon-reduction projects nationwide. Of the money awarded
  to Climate United\, CPC Climate Capital received $2.4 billion to execute 
 Climate United's multifamily housing strategy.\n\nThis webinar will cover 
 CPC Climate Capital's multifamily lending strategy\, term sheets and a sam
 ple multifamily deal\, performance standards\, and what to expect from the
  loan process.
X-WR-RELCALID:6c8897bcddaecc69f6d3a9c995c97fc1
X-WR-TIMEZONE:America/New_York
BEGIN:VTIMEZONE
TZID:America/New_York
BEGIN:STANDARD
TZNAME:EST
DTSTART:20231105T020000
TZOFFSETFROM:-0400
TZOFFSETTO:-0500
RDATE:20241103T020000
RDATE:20251102T020000
END:STANDARD
BEGIN:DAYLIGHT
TZNAME:EDT
DTSTART:20240310T020000
TZOFFSETFROM:-0500
TZOFFSETTO:-0400
RDATE:20250309T020000
RDATE:20260308T020000
END:DAYLIGHT
END:VTIMEZONE
BEGIN:VEVENT
UID:a3bf768f-4fa1-4e09-a6bb-39b41d9b31f5
DTSTAMP:20260422T114136Z
DESCRIPTION:CPC Climate Capital\, a subsidiary of the Community Preservatio
 n Corporation\, is part of Climate United\, a national coalition of three 
 nonprofits that received $6.97 billion from the Greenhouse Gas Reduction F
 und to finance carbon-reduction projects nationwide. Of the money awarded 
 to Climate United\, CPC Climate Capital received $2.4 billion to execute C
 limate United's multifamily housing strategy.\n\nThis webinar will cover C
 PC Climate Capital's multifamily lending strategy\, term sheets and a samp
 le multifamily deal\, performance standards\, and what to expect from the 
 loan process.
DTSTART;TZID=America/New_York:20241030T130000
DTEND;TZID=America/New_York:20241030T140000
LOCATION:
SUMMARY:CPC Climate Capital: Support for Clean Energy in Multifamily Housin
 g
END:VEVENT
END:VCALENDAR
